Workbook
Name data_CN: [1]Data!$C$4:$U$726
Name DSCN: [2]CAMKET23!$A$8:$N$61
Name ma_nv: [3]NV!$D$2:$D$200
Name mnv: DMNV!$A$5:$A$45
Name vnv: DMNV!$A$5:$Z$45

Sheet MENU
E1: NGƯỜI VIẾT: ĐÀM VĂN ĐỨC, CẦN HỖ TRỢ LIÊN HỆ FB NẶNG THẦM, 0972075067
E23: NGƯỜI VIẾT: ĐÀM VĂN ĐỨC, CẦN HỖ TRỢ LIÊN HỆ FB NẶNG THẦM, 0972075067

Sheet TTDN
B3: NGƯỜI VIẾT: ĐÀM VĂN ĐỨC, CẦN HỖ TRỢ LIÊN HỆ FB NẶNG THẦM, 0972075067
A4: THÔNG TIN DOANH NGHIỆP
A5: Diễn giải | B5: Thông tin
A6: Tên doanh nghiệp | B6: Công ty TNHH mua nỗi buồn bán niềm vui
A7: Địa chỉ trụ sở | B7: Phây búc Nặng Thầm
A8: Mã số thuế | B8: https://www.facebook.com/lang.tham.33
A9: Điện thoại | B9: 0972075067
A10: Email | B10: ducdamkt@gmail.com
A11: Giám đốc | B11: Đàm Văn Đức
A12: Kế toán trưởng | B12: Đàm Vĩnh Hưng
A13: Người lập biểu | B13: Sơn Tùng MTP
A14: Thủ kho | B14: Đan Nguyên
A15: Thủ quỹ | B15: Hồ Ngọc Hà
A16: Từ ngày 01/01/2015 đến ngày 31/12/2015 | B16: Hà Nội, ngày 31 tháng 12 năm 2015
B17: Năm 2015

Sheet DMNV
B1: NGƯỜI VIẾT: ĐÀM VĂN ĐỨC, CẦN HỖ TRỢ LIÊN HỆ FB NẶNG THẦM, 0972075067 | E1: =TTDN!$B$6 -> Công ty TNHH mua nỗi buồn bán niềm vui | I1: =TTDN!B$6 -> Công ty TNHH mua nỗi buồn bán niềm vui | M1: NGƯỜI VIẾT: ĐÀM VĂN ĐỨC, CẦN HỖ TRỢ LIÊN HỆ FB NẶNG THẦM, 0972075067 | N1: NGƯỜI VIẾT: ĐÀM VĂN ĐỨC, CẦN HỖ TRỢ LIÊN HỆ FB NẶNG THẦM, 0972075067 | O1: NGƯỜI VIẾT: ĐÀM VĂN ĐỨC, CẦN HỖ TRỢ LIÊN HỆ FB NẶNG THẦM, 0972075067 | P1: NGƯỜI VIẾT: ĐÀM VĂN ĐỨC, CẦN HỖ TRỢ LIÊN HỆ FB NẶNG THẦM, 0972075067 | R1: NGƯỜI VIẾT: ĐÀM VĂN ĐỨC, CẦN HỖ TRỢ LIÊN HỆ FB NẶNG THẦM, 0972075067 | T1: NGƯỜI VIẾT: ĐÀM VĂN ĐỨC, CẦN HỖ TRỢ LIÊN HỆ FB NẶNG THẦM, 0972075067
B2: NGƯỜI VIẾT: ĐÀM VĂN ĐỨC, CẦN HỖ TRỢ LIÊN HỆ FB NẶNG THẦM, 0972075067 | E2: =TTDN!$B$7 -> Phây búc Nặng Thầm | I2: =TTDN!$B$7 -> Phây búc Nặng Thầm | M2: NGƯỜI VIẾT: ĐÀM VĂN ĐỨC, CẦN HỖ TRỢ LIÊN HỆ FB NẶNG THẦM, 0972075067 | N2: NGƯỜI VIẾT: ĐÀM VĂN ĐỨC, CẦN HỖ TRỢ LIÊN HỆ FB NẶNG THẦM, 0972075067 | O2: NGƯỜI VIẾT: ĐÀM VĂN ĐỨC, CẦN HỖ TRỢ LIÊN HỆ FB NẶNG THẦM, 0972075067 | P2: NGƯỜI VIẾT: ĐÀM VĂN ĐỨC, CẦN HỖ TRỢ LIÊN HỆ FB NẶNG THẦM, 0972075067 | R2: NGƯỜI VIẾT: ĐÀM VĂN ĐỨC, CẦN HỖ TRỢ LIÊN HỆ FB NẶNG THẦM, 0972075067 | T2: NGƯỜI VIẾT: ĐÀM VĂN ĐỨC, CẦN HỖ TRỢ LIÊN HỆ FB NẶNG THẦM, 0972075067
B3: NGƯỜI VIẾT: ĐÀM VĂN ĐỨC, CẦN HỖ TRỢ LIÊN HỆ FB NẶNG THẦM, 0972075067 | M3: NGƯỜI VIẾT: ĐÀM VĂN ĐỨC, CẦN HỖ TRỢ LIÊN HỆ FB NẶNG THẦM, 0972075067 | N3: NGƯỜI VIẾT: ĐÀM VĂN ĐỨC, CẦN HỖ TRỢ LIÊN HỆ FB NẶNG THẦM, 0972075067 | O3: NGƯỜI VIẾT: ĐÀM VĂN ĐỨC, CẦN HỖ TRỢ LIÊN HỆ FB NẶNG THẦM, 0972075067 | P3: NGƯỜI VIẾT: ĐÀM VĂN ĐỨC, CẦN HỖ TRỢ LIÊN HỆ FB NẶNG THẦM, 0972075067 | R3: NGƯỜI VIẾT: ĐÀM VĂN ĐỨC, CẦN HỖ TRỢ LIÊN HỆ FB NẶNG THẦM, 0972075067 | T3: NGƯỜI VIẾT: ĐÀM VĂN ĐỨC, CẦN HỖ TRỢ LIÊN HỆ FB NẶNG THẦM, 0972075067
A4: STT | B4: Họ và tên | C4: Giới tính | D4: Chức danh | E4: Ngày sinh | F4: Quê quán | G4: ĐC thường trú | H4: Số CMT | I4: Ngày cấp | J4: Nơi cấp | K4: MST | L4: Lương cơ bản | M4: Lương doanh thu | N4: Tiền ăn ca | O4: Bộ phận | P4: Chức danh công việc | Q4: Loại HĐ | R4: Từ ngày | T4: Ngày có hiệu lực | U4: Đến ngày | V4: Thời gian HĐ | W4: MST | X4: Số HĐLĐ | Y4: Lương PLHĐ | Z4: Ngày ký PLHĐ
A5: 01 | B5: Bùi Văn Thương | C5: Nam | D5: Chủ tịch HĐQT | E5: 18/11/1965 | F5: Lý Nhân, Hà Nam | G5: Tổ 3, Thị trấn Đông Anh, Hà Nội | H5: 001065001832 | I5: 05/12/2014 | J5: Cục trưởng CCS ĐKQL cư trú và DLQG về dân cư | K5: 0104644030 | L5: 8000000 | M5: =W5-L5 -> 7000000 | N5: 680000 | O5: Văn phòng | P5: Chủ tịch HĐQT | Q5: Không xác định thời hạn | R5: 02/01/2015 | S5: =IF(R5="","","Ngày "&LEFT(R5,2)&" tháng "&MID(R5,4,2)&" năm "&RIGHT(R5,4)) -> Ngày 02 tháng 01 năm 2015 | T5: 01/01/2015 | U5: ` | V5: =IF(LEFT($Q5,1)="K","Từ ngày: "&$R5,IF(OR(LEFT($Q5,1)="M",LEFT($Q5,1)="1"),"Từ ngày: "&$R5&"- Đến ngày: "&$U5)) -> Từ ngày: 02/01/2015 | W5: 15000000 | X5: =A5&"/HĐLĐ2015" -> 01/HĐLĐ2015 | Y5: 8000000 | Z5: 01/05/2015
A6: 02 | B6: Vũ Thị Thanh | C6: Nữ | D6: Giám đốc | E6: 10/07/1967 | F6: Trần Đăng Ninh, Nam Định | G6: Tổ 3, Thị trấn Đông Anh, Hà Nội | H6: 011621775 | I6: 09/01/2006 | J6: CA TP Hà Nội | K6: 8184128925 | L6: 8000000 | M6: =W6-L6 -> 7000000 | N6: 680000 | O6: Văn phòng | P6: Giám đốc | Q6: Không xác định thời hạn | R6: 02/01/2015 | S6: =IF(R6="","","Ngày "&LEFT(R6,2)&" tháng "&MID(R6,4,2)&" năm "&RIGHT(R6,4)) -> Ngày 02 tháng 01 năm 2015 | T6: 01/01/2015 | V6: =IF(LEFT($Q6,1)="K","Từ ngày: "&$R6,IF(OR(LEFT($Q6,1)="M",LEFT($Q6,1)="1"),"Từ ngày: "&$R6&"- Đến ngày: "&$U6)) -> Từ ngày: 02/01/2015 | W6: 15000000 | X6: =A6&"/HĐLĐ2015" -> 02/HĐLĐ2015 | Y6: 8000000 | Z6: 01/05/2015
A7: 03 | B7: Nguyễn Quang Đạo | C7: Nam | D7: Phó Giám đốc | E7: 10/10/1959 | F7: Số 63, Tổ 5, Đông Anh, Hà Nội | G7: Số 63, Tổ 5, Đông Anh, Hà Nội | H7: 011643161 | I7: 24/05/2007 | J7: CA TP Hà Nội | K7: 8031143450 | L7: 6000000 | M7: =W7-L7 -> 2000000 | N7: 680000 | O7: Văn phòng | P7: Phó Giám đốc | Q7: Không xác định thời hạn | R7: 02/01/2015 | S7: =IF(R7="","","Ngày "&LEFT(R7,2)&" tháng "&MID(R7,4,2)&" năm "&RIGHT(R7,4)) -> Ngày 02 tháng 01 năm 2015 | T7: 01/01/2015 | V7: =IF(LEFT($Q7,1)="K","Từ ngày: "&$R7,IF(OR(LEFT($Q7,1)="M",LEFT($Q7,1)="1"),"Từ ngày: "&$R7&"- Đến ngày: "&$U7)) -> Từ ngày: 02/01/2015 | W7: 8000000 | X7: =A7&"/HĐLĐ2015" -> 03/HĐLĐ2015 | Y7: 6000000 | Z7: 01/05/2015
A8: 04 | B8: Vũ Thị Thắm | C8: Nữ | D8: Kế toán trưởng | E8: 15/12/1991 | F8: Thị trấn Đông Anh, Hà Nội | G8: Tổ 3, Thị trấn Đông Anh, Hà Nội | H8: 012938356 | I8: 08/02/2007 | J8: CA TP Hà Nội | K8: 8333045668 | L8: 5000000 | M8: =W8-L8 -> 2000000 | N8: 680000 | O8: Văn phòng | P8: Kế toán trưởng | Q8: Không xác định thời hạn | R8: 02/01/2015 | S8: =IF(R8="","","Ngày "&LEFT(R8,2)&" tháng "&MID(R8,4,2)&" năm "&RIGHT(R8,4)) -> Ngày 02 tháng 01 năm 2015 | T8: 01/01/2015 | V8: =IF(LEFT($Q8,1)="K","Từ ngày: "&$R8,IF(OR(LEFT($Q8,1)="M",LEFT($Q8,1)="1"),"Từ ngày: "&$R8&"- Đến ngày: "&$U8)) -> Từ ngày: 02/01/2015 | W8: 7000000 | X8: =A8&"/HĐLĐ2015" -> 04/HĐLĐ2015 | Y8: 5000000 | Z8: 01/05/2015
A9: 05 | B9: Vũ Thị Thu Hương | C9: Nam | D9: P.Giám đốc | E9: 25/05/1961 | F9: Mai Đình, Ứng Hòa, Hà Tây | G9: Tiền Phong, Mê Linh, Hà Nội | H9: 012534683 | I9: 09/07/2012 | J9: CA TP Hà Nội | K9: 8031570283 | L9: 3317000 | M9: =W9-L9 -> 4683000 | N9: 680000 | O9: Văn phòng | P9: Phó Giám đốc | Q9: Không xác định thời hạn | R9: 02/01/2015 | S9: =IF(R9="","","Ngày "&LEFT(R9,2)&" tháng "&MID(R9,4,2)&" năm "&RIGHT(R9,4)) -> Ngày 02 tháng 01 năm 2015 | T9: 01/01/2015 | V9: =IF(LEFT($Q9,1)="K","Từ ngày: "&$R9,IF(OR(LEFT($Q9,1)="M",LEFT($Q9,1)="1"),"Từ ngày: "&$R9&"- Đến ngày: "&$U9)) -> Từ ngày: 02/01/2015 | W9: 8000000 | X9: =A9&"/HĐLĐ2015" -> 05/HĐLĐ2015
A10: 06 | B10: Lê Thị Vân | C10: Nam | D10: Hành chính | E10: 24/12/1950 | F10: Thanh Chương, Nghệ An | G10: Số 29, Ngõ 79, Thái Thịnh, Hà Nội | H10: 012661016 | I10: 17/11/2003 | J10: CA TP Hà Nội | K10: 8015174028 | L10: 3100000 | M10: =W10-L10 -> 4900000 | N10: 680000 | O10: Văn phòng | P10: Hành chính | Q10: Không xác định thời hạn | R10: 02/01/2015 | S10: =IF(R10="","","Ngày "&LEFT(R10,2)&" tháng "&MID(R10,4,2)&" năm "&RIGHT(R10,4)) -> Ngày 02 tháng 01 năm 2015 | T10: 01/01/2015 | V10: =IF(LEFT($Q10,1)="K","Từ ngày: "&$R10,IF(OR(LEFT($Q10,1)="M",LEFT($Q10,1)="1"),"Từ ngày: "&$R10&"- Đến ngày: "&$U10)) -> Từ ngày: 02/01/2015 | W10: 8000000 | X10: =A10&"/HĐLĐ2015" -> 06/HĐLĐ2015
A11: 07 | B11: Tạ Thị Kim Phượng | C11: Nam | D11: Hành chính | E11: 15/11/1984 | F11: Thạch Thất, Hà Nội | G11: Thôn Hạ, Mễ Trì, Từ Liêm, Hà Nội | H11: 017029046 | I11: 07/07/2012 | J11: CA TP Hà Nội | K11: 8366864101 | L11: 3100000 | M11: =W11-L11 -> 3900000 | N11: 680000 | O11: Văn phòng | P11: Hành chính | Q11: Không xác định thời hạn | R11: 02/01/2015 | S11: =IF(R11="","","Ngày "&LEFT(R11,2)&" tháng "&MID(R11,4,2)&" năm "&RIGHT(R11,4)) -> Ngày 02 tháng 01 năm 2015 | T11: 01/01/2015 | V11: =IF(LEFT($Q11,1)="K","Từ ngày: "&$R11,IF(OR(LEFT($Q11,1)="M",LEFT($Q11,1)="1"),"Từ ngày: "&$R11&"- Đến ngày: "&$U11)) -> Từ ngày: 02/01/2015 | W11: 7000000 | X11: =A11&"/HĐLĐ2015" -> 07/HĐLĐ2015
A12: 08 | B12: Nguyễn Tuấn Anh | C12: Nữ | D12: Thủ quỹ | E12: 12/02/1992 | F12: Vĩnh Tiến, Vĩnh Lộc, Thanh Hóa | G12: Vĩnh Tiến, Vĩnh Lộc, Thanh Hóa | H12: 173216761 | I12: 02/11/2009 | J12: CA Tỉnh Thanh Hóa | K12: 8331504193 | L12: 3100000 | M12: =W12-L12 -> 3900000 | N12: 680000 | O12: Văn phòng | P12: Thủ quỹ | Q12: Không xác định thời hạn | R12: 02/01/2015 | S12: =IF(R12="","","Ngày "&LEFT(R12,2)&" tháng "&MID(R12,4,2)&" năm "&RIGHT(R12,4)) -> Ngày 02 tháng 01 năm 2015 | T12: 01/01/2015 | V12: =IF(LEFT($Q12,1)="K","Từ ngày: "&$R12,IF(OR(LEFT($Q12,1)="M",LEFT($Q12,1)="1"),"Từ ngày: "&$R12&"- Đến ngày: "&$U12)) -> Từ ngày: 02/01/2015 | W12: 7000000 | X12: =A12&"/HĐLĐ2015" -> 08/HĐLĐ2015 | Y12: 4000000 | Z12: 01/05/2015
A13: 09 | B13: Vũ Thị Thắm | C13: Nữ | D13: Thủ kho | E13: 19/06/1992 | F13: Hải Minh, Hải Hậu, Nam Định | G13: Hải Minh, Hải Hậu, Nam Định | H13: 163222353 | I13: 18/03/2010 | J13: CA Tỉnh Nam Định | K13: 8366864253 | L13: 3100000 | M13: =W13-L13 -> 3400000 | N13: 680000 | O13: Văn phòng | P13: Thủ kho | Q13: Không xác định thời hạn | R13: 02/01/2015 | S13: =IF(R13="","","Ngày "&LEFT(R13,2)&" tháng "&MID(R13,4,2)&" năm "&RIGHT(R13,4)) -> Ngày 02 tháng 01 năm 2015 | T13: 01/01/2015 | V13: =IF(LEFT($Q13,1)="K","Từ ngày: "&$R13,IF(OR(LEFT($Q13,1)="M",LEFT($Q13,1)="1"),"Từ ngày: "&$R13&"- Đến ngày: "&$U13)) -> Từ ngày: 02/01/2015 | W13: 6500000 | X13: =A13&"/HĐLĐ2015" -> 09/HĐLĐ2015
A14: 10 | B14: Vũ Thị Thu Hương | C14: Nữ | D14: Kế toán | E14: 18/04/1988 | F14: Uy Nỗ, Đông Anh, Hà Nội | G14: Uy Nỗ, Đông Anh, Hà Nội | H14: 012751387 | I14: 03/11/2004 | J14: CA TP Hà Nội | K14: 8332766829 | L14: 3100000 | M14: =W14-L14 -> 3900000 | N14: 680000 | O14: Văn phòng | P14: Kế toán | Q14: Không xác định thời hạn | R14: 02/01/2015 | S14: =IF(R14="","","Ngày "&LEFT(R14,2)&" tháng "&MID(R14,4,2)&" năm "&RIGHT(R14,4)) -> Ngày 02 tháng 01 năm 2015 | T14: 01/01/2015 | V14: =IF(LEFT($Q14,1)="K","Từ ngày: "&$R14,IF(OR(LEFT($Q14,1)="M",LEFT($Q14,1)="1"),"Từ ngày: "&$R14&"- Đến ngày: "&$U14)) -> Từ ngày: 02/01/2015 | W14: 7000000 | X14: =A14&"/HĐLĐ2015" -> 10/HĐLĐ2015
A15: 11 | B15: Lê Thị Vân | C15: Nam | D15: Vật tư | E15: 1968 | F15: Yên Phụ, Yên Phong, Bắc Ninh | G15: Yên Phụ, Yên Phong, Bắc Ninh | H15: 125686250 | I15: 03/05/2012 | J15: CA Tỉnh Bắc Ninh | K15: 8366864214 | L15: 3100000 | M15: =W15-L15 -> 3900000 | N15: 680000 | O15: Văn phòng | P15: Vật tư | Q15: Không xác định thời hạn | R15: 02/01/2015 | S15: =IF(R15="","","Ngày "&LEFT(R15,2)&" tháng "&MID(R15,4,2)&" năm "&RIGHT(R15,4)) -> Ngày 02 tháng 01 năm 2015 | T15: 01/01/2015 | V15: =IF(LEFT($Q15,1)="K","Từ ngày: "&$R15,IF(OR(LEFT($Q15,1)="M",LEFT($Q15,1)="1"),"Từ ngày: "&$R15&"- Đến ngày: "&$U15)) -> Từ ngày: 02/01/2015 | W15: 7000000 | X15: =A15&"/HĐLĐ2015" -> 11/HĐLĐ2015
A16: 12 | B16: Tạ Thị Kim Phượng | C16: Nữ | D16: Vật tư | E16: 1960 | F16: Yên Phụ, Yên Phong, Bắc Ninh | G16: Yên Phụ, Yên Phong, Bắc Ninh | H16: 125668732 | I16: 12/04/2012 | J16: CA Tỉnh Bắc Ninh | K16: 8366864140 | L16: 3100000 | M16: =W16-L16 -> 3900000 | N16: 680000 | O16: Văn phòng | P16: Vật tư | Q16: Không xác định thời hạn | R16: 02/01/2015 | S16: =IF(R16="","","Ngày "&LEFT(R16,2)&" tháng "&MID(R16,4,2)&" năm "&RIGHT(R16,4)) -> Ngày 02 tháng 01 năm 2015 | T16: 01/01/2015 | V16: =IF(LEFT($Q16,1)="K","Từ ngày: "&$R16,IF(OR(LEFT($Q16,1)="M",LEFT($Q16,1)="1"),"Từ ngày: "&$R16&"- Đến ngày: "&$U16)) -> Từ ngày: 02/01/2015 | W16: 7000000 | X16: =A16&"/HĐLĐ2015" -> 12/HĐLĐ2015
A17: 13 | B17: Nguyễn Tuấn Anh | C17: Nữ | D17: Văn thư | E17: 29/12/1988 | F17: Đông Mỹ, Thanh Trì, Hà Nội | G17: Thôn 1, Đông Mỹ, Thanh Trì, Hà Nội | H17: 012560648 | I17: 05/05/2006 | J17: CA TP Hà Nội | K17: 8096945928 | L17: 3100000 | M17: =W17-L17 -> 3900000 | N17: 680000 | O17: Văn phòng | P17: Văn thư | Q17: Không xác định thời hạn | R17: 02/01/2015 | S17: =IF(R17="","","Ngày "&LEFT(R17,2)&" tháng "&MID(R17,4,2)&" năm "&RIGHT(R17,4)) -> Ngày 02 tháng 01 năm 2015 | T17: 01/01/2015 | V17: =IF(LEFT($Q17,1)="K","Từ ngày: "&$R17,IF(OR(LEFT($Q17,1)="M",LEFT($Q17,1)="1"),"Từ ngày: "&$R17&"- Đến ngày: "&$U17)) -> Từ ngày: 02/01/2015 | W17: 7000000 | X17: =A17&"/HĐLĐ2015" -> 13/HĐLĐ2015
A18: 14 | B18: Vũ Thị Thắm | C18: Nam | D18: Lái xe | E18: 25/05/1963 | F18: Đông Anh, Hà Nội | G18: Kim Nỗ, Đông Anh, Hà Nội | H18: 010665415 | I18: 09/01/2006 | J18: CA TP Hà Nội | K18: 8291926862 | L18: 3100000 | M18: =W18-L18 -> 3900000 | N18: 680000 | O18: Văn phòng | P18: Lái xe | Q18: Không xác định thời hạn | R18: 02/01/2015 | S18: =IF(R18="","","Ngày "&LEFT(R18,2)&" tháng "&MID(R18,4,2)&" năm "&RIGHT(R18,4)) -> Ngày 02 tháng 01 năm 2015 | T18: 01/01/2015 | V18: =IF(LEFT($Q18,1)="K","Từ ngày: "&$R18,IF(OR(LEFT($Q18,1)="M",LEFT($Q18,1)="1"),"Từ ngày: "&$R18&"- Đến ngày: "&$U18)) -> Từ ngày: 02/01/2015 | W18: 7000000 | X18: =A18&"/HĐLĐ2015" -> 14/HĐLĐ2015
A19: 15 | B19: Vũ Thị Thu Hương | C19: Nam | D19: Bảo vệ | E19: 28/02/1958 | F19: Hòa An, Biên Hòa, Đồng Nai | G19: Tổ 8, Khối 1B, Đông Anh, Hà Nội | H19: 011213945 | I19: 09/08/2002 | J19: CA TP Hà Nội | K19: 8125085395 | L19: 3100000 | M19: =W19-L19 -> 2900000 | N19: 680000 | O19: Văn phòng | P19: Bảo vệ | Q19: Không xác định thời hạn | R19: 02/01/2015 | S19: =IF(R19="","","Ngày "&LEFT(R19,2)&" tháng "&MID(R19,4,2)&" năm "&RIGHT(R19,4)) -> Ngày 02 tháng 01 năm 2015 | T19: 01/01/2015 | V19: =IF(LEFT($Q19,1)="K","Từ ngày: "&$R19,IF(OR(LEFT($Q19,1)="M",LEFT($Q19,1)="1"),"Từ ngày: "&$R19&"- Đến ngày: "&$U19)) -> Từ ngày: 02/01/2015 | W19: 6000000 | X19: =A19&"/HĐLĐ2015" -> 15/HĐLĐ2015
A20: 16 | B20: Lê Thị Vân | C20: Nam | D20: Bảo vệ | E20: 20/09/1956 | F20: Trung Kiên, Yên Lạc, Vĩnh Phúc | G20: Tiên Dương, Đông Anh, Hà Nội | H20: 011705083 | I20: 28/03/2012 | J20: CA TP Hà Nội | K20: 8031143531 | L20: 3100000 | M20: =W20-L20 -> 2900000 | N20: 680000 | O20: Văn phòng | P20: Bảo vệ | Q20: Không xác định thời hạn | R20: 02/01/2015 | S20: =IF(R20="","","Ngày "&LEFT(R20,2)&" tháng "&MID(R20,4,2)&" năm "&RIGHT(R20,4)) -> Ngày 02 tháng 01 năm 2015 | T20: 01/01/2015 | V20: =IF(LEFT($Q20,1)="K","Từ ngày: "&$R20,IF(OR(LEFT($Q20,1)="M",LEFT($Q20,1)="1"),"Từ ngày: "&$R20&"- Đến ngày: "&$U20)) -> Từ ngày: 02/01/2015 | W20: 6000000 | X20: =A20&"/HĐLĐ2015" -> 16/HĐLĐ2015
A21: 17 | B21: Tạ Thị Kim Phượng | C21: Nam | D21: Quản đốc | E21: 20/08/1959 | F21: An Bình, Kiến Xương, Thái Bình | G21: Tiền Phong, Mê Linh, Vĩnh Phúc | H21: 135404867 | I21: 12/10/2005 | J21: CA Tỉnh Vĩnh Phúc | K21: 8333045724 | L21: 3317000 | M21: =W21-L21 -> 4683000 | N21: 680000 | O21: Xưởng sản xuất | P21: Quản đốc | Q21: Không xác định thời hạn | R21: 02/01/2015 | S21: =IF(R21="","","Ngày "&LEFT(R21,2)&" tháng "&MID(R21,4,2)&" năm "&RIGHT(R21,4)) -> Ngày 02 tháng 01 năm 2015 | T21: 01/01/2015 | V21: =IF(LEFT($Q21,1)="K","Từ ngày: "&$R21,IF(OR(LEFT($Q21,1)="M",LEFT($Q21,1)="1"),"Từ ngày: "&$R21&"- Đến ngày: "&$U21)) -> Từ ngày: 02/01/2015 | W21: 8000000 | X21: =A21&"/HĐLĐ2015" -> 17/HĐLĐ2015 | Y21: 3317000 | Z21: 01/05/2015
A22: 18 | B22: Nguyễn Tuấn Anh | C22: Nam | D22: Tổ trưởng | E22: 17/10/1985 | F22: Tổ 33, Đông Anh, Hà Nội | G22: Tổ 33, Đông Anh, Hà Nội | H22: 013212902 | I22: 13/01/2013 | J22: CA TP Hà Nội | K22: 8088780260 | L22: 3100000 | M22: =W22-L22 -> 4400000 | N22: 680000 | O22: Xưởng sản xuất | P22: Tổ trưởng | Q22: Không xác định thời hạn | R22: 02/01/2015 | S22: =IF(R22="","","Ngày "&LEFT(R22,2)&" tháng "&MID(R22,4,2)&" năm "&RIGHT(R22,4)) -> Ngày 02 tháng 01 năm 2015 | T22: 01/01/2015 | V22: =IF(LEFT($Q22,1)="K","Từ ngày: "&$R22,IF(OR(LEFT($Q22,1)="M",LEFT($Q22,1)="1"),"Từ ngày: "&$R22&"- Đến ngày: "&$U22)) -> Từ ngày: 02/01/2015 | W22: 7500000 | X22: =A22&"/HĐLĐ2015" -> 18/HĐLĐ2015
A23: 19 | B23: Tạ Thị Kim Phượng | C23: Nữ | D23: Tổ viên | E23: 26/06/1962 | F23: Thụy Lâm, Đông Anh, Hà Nội | G23: Số 36, Tổ 5, Đông Anh, Hà Nội | H23: 010685297 | I23: 21/11/2007 | J23: CA TP Hà Nội | K23: 8333045682 | L23: 3100000 | M23: =W23-L23 -> 3900000 | N23: 680000 | O23: Xưởng sản xuất | P23: Tổ viên | Q23: Không xác định thời hạn | R23: 02/01/2015 | S23: =IF(R23="","","Ngày "&LEFT(R23,2)&" tháng "&MID(R23,4,2)&" năm "&RIGHT(R23,4)) -> Ngày 02 tháng 01 năm 2015 | T23: 01/01/2015 | V23: =IF(LEFT($Q23,1)="K","Từ ngày: "&$R23,IF(OR(LEFT($Q23,1)="M",LEFT($Q23,1)="1"),"Từ ngày: "&$R23&"- Đến ngày: "&$U23)) -> Từ ngày: 02/01/2015 | W23: 7000000 | X23: =A23&"/HĐLĐ2015" -> 19/HĐLĐ2015
A24: 20 | B24: Lê Hồng Thuận | C24: Nam | D24: Tổ trưởng | E24: 07/04/1978 | F24: Thụy Lâm, Đông Anh, Hà Nội | G24: Thụy Lâm, Đông Anh, Hà Nội | H24: 011959192 | I24: 01/11/2013 | J24: CA TP Hà Nội | K24: 8053463905 | L24: 3100000 | M24: =W24-L24 -> 4400000 | N24: 680000 | O24: Xưởng sản xuất | P24: Tổ trưởng | Q24: Không xác định thời hạn | R24: 02/01/2015 | S24: =IF(R24="","","Ngày "&LEFT(R24,2)&" tháng "&MID(R24,4,2)&" năm "&RIGHT(R24,4)) -> Ngày 02 tháng 01 năm 2015 | T24: 01/01/2015 | V24: =IF(LEFT($Q24,1)="K","Từ ngày: "&$R24,IF(OR(LEFT($Q24,1)="M",LEFT($Q24,1)="1"),"Từ ngày: "&$R24&"- Đến ngày: "&$U24)) -> Từ ngày: 02/01/2015 | W24: 7500000 | X24: =A24&"/HĐLĐ2015" -> 20/HĐLĐ2015 | Y24: 3100000 | Z24: 01/05/2015
A25: 21 | B25: Trần Văn Tám | C25: Nữ | D25: Tổ viên | E25: 19/05/1959 | F25: Thái Thụy, Thái Bình | G25: Số 67, Tổ 5, Đông Anh, Hà Nội | H25: 012360307 | I25: 19/07/2000 | J25: CA TP Hà Nội | K25: 8031143725 | L25: 3100000 | M25: =W25-L25 -> 3900000 | N25: 680000 | O25: Xưởng sản xuất | P25: Tổ viên | Q25: Không xác định thời hạn | R25: 02/01/2015 | S25: =IF(R25="","","Ngày "&LEFT(R25,2)&" tháng "&MID(R25,4,2)&" năm "&RIGHT(R25,4)) -> Ngày 02 tháng 01 năm 2015 | T25: 01/01/2015 | V25: =IF(LEFT($Q25,1)="K","Từ ngày: "&$R25,IF(OR(LEFT($Q25,1)="M",LEFT($Q25,1)="1"),"Từ ngày: "&$R25&"- Đến ngày: "&$U25)) -> Từ ngày: 02/01/2015 | W25: 7000000 | X25: =A25&"/HĐLĐ2015" -> 21/HĐLĐ2015
A26: 22 | B26: Đặng Văn Thành | C26: Nữ | D26: Tổ viên | E26: 08/03/1993 | F26: Thanh Tường, Thanh Chương, Nghệ An | G26: Thanh Tường, Thanh Chương, Nghệ An | H26: 187309758 | I26: 27/11/2010 | J26: CA Tỉnh Nghệ An | K26: 8301285794 | L26: 3100000 | M26: =W26-L26 -> 3900000 | N26: 680000 | O26: Xưởng sản xuất | P26: Tổ viên | Q26: Không xác định thời hạn | R26: 02/01/2015 | S26: =IF(R26="","","Ngày "&LEFT(R26,2)&" tháng "&MID(R26,4,2)&" năm "&RIGHT(R26,4)) -> Ngày 02 tháng 01 năm 2015 | T26: 01/01/2015 | V26: =IF(LEFT($Q26,1)="K","Từ ngày: "&$R26,IF(OR(LEFT($Q26,1)="M",LEFT($Q26,1)="1"),"Từ ngày: "&$R26&"- Đến ngày: "&$U26)) -> Từ ngày: 02/01/2015 | W26: 7000000 | X26: =A26&"/HĐLĐ2015" -> 22/HĐLĐ2015
A27: 23 | B27: Đặng Thành Tâm | C27: Nữ | D27: Tổ viên | E27: 29/10/1979 | F27: Thụy Liên, Thái Thụy, Thái Bình | G27: Xóm 3, Lương Quy, Xuân Nộn, Đông Anh, Hà Nội | H27: 152260596 | I27: 11/07/2014 | J27: CA Tỉnh Thái Bình | K27: 8366864020 | L27: 3100000 | M27: =W27-L27 -> 3900000 | N27: 680000 | O27: Xưởng sản xuất | P27: Tổ viên | Q27: Không xác định thời hạn | R27: 02/01/2015 | S27: =IF(R27="","","Ngày "&LEFT(R27,2)&" tháng "&MID(R27,4,2)&" năm "&RIGHT(R27,4)) -> Ngày 02 tháng 01 năm 2015 | T27: 01/01/2015 | V27: =IF(LEFT($Q27,1)="K","Từ ngày: "&$R27,IF(OR(LEFT($Q27,1)="M",LEFT($Q27,1)="1"),"Từ ngày: "&$R27&"- Đến ngày: "&$U27)) -> Từ ngày: 02/01/2015 | W27: 7000000 | X27: =A27&"/HĐLĐ2015" -> 23/HĐLĐ2015 | Y27: 3100000 | Z27: 01/05/2015
A28: 24 | B28: Đoàn Văn Cường | C28: Nam | D28: Tổ viên | E28: 1975 | F28: Uy Nỗ, Đông Anh, Hà Nội | G28: Xóm Thượng, Uy Nỗ, Đông Anh, Hà Nội | H28: 012472108 | I28: 26/09/2006 | J28: CA TP Hà Nội | K28: 8184158630 | L28: 3100000 | M28: =W28-L28 -> 3900000 | N28: 680000 | O28: Xưởng sản xuất | P28: Tổ viên | Q28: Không xác định thời hạn | R28: 02/01/2015 | S28: =IF(R28="","","Ngày "&LEFT(R28,2)&" tháng "&MID(R28,4,2)&" năm "&RIGHT(R28,4)) -> Ngày 02 tháng 01 năm 2015 | T28: 01/01/2015 | V28: =IF(LEFT($Q28,1)="K","Từ ngày: "&$R28,IF(OR(LEFT($Q28,1)="M",LEFT($Q28,1)="1"),"Từ ngày: "&$R28&"- Đến ngày: "&$U28)) -> Từ ngày: 02/01/2015 | W28: 7000000 | X28: =A28&"/HĐLĐ2015" -> 24/HĐLĐ2015
A29: 25 | B29: Hồ Phương Lanh | C29: Nam | D29: Tổ trưởng | E29: 20/04/1992 | F29: Yên Phụ, Yên Phong, Bắc Ninh | G29: Cgạo, Yên Phụ, Yên Phong, Bắc Ninh | H29: 125393146 | I29: 13/03/2007 | J29: CA Tỉnh Bắc Ninh | K29: 8366864126 | L29: 3100000 | M29: =W29-L29 -> 4400000 | N29: 680000 | O29: Xưởng sản xuất | P29: Tổ trưởng | Q29: Không xác định thời hạn | R29: 02/01/2015 | S29: =IF(R29="","","Ngày "&LEFT(R29,2)&" tháng "&MID(R29,4,2)&" năm "&RIGHT(R29,4)) -> Ngày 02 tháng 01 năm 2015 | T29: 01/01/2015 | V29: =IF(LEFT($Q29,1)="K","Từ ngày: "&$R29,IF(OR(LEFT($Q29,1)="M",LEFT($Q29,1)="1"),"Từ ngày: "&$R29&"- Đến ngày: "&$U29)) -> Từ ngày: 02/01/2015 | W29: 7500000 | X29: =A29&"/HĐLĐ2015" -> 25/HĐLĐ2015
A30: 26 | B30: Huỳnh Tùng Lâm | C30: Nam | D30: Tổ viên | E30: 20/12/1970 | F30: Yên Phụ, Yên Phong, Bắc Ninh | G30: An Tập, Yên Phụ, Yên Phong, Bắc Ninh | H30: 125407002 | I30: 11/07/2000 | J30: CA Tỉnh Bắc Ninh | K30: 8366864006 | L30: 3100000 | M30: =W30-L30 -> 3900000 | N30: 680000 | O30: Xưởng sản xuất | P30: Tổ viên | Q30: Không xác định thời hạn | R30: 02/01/2015 | S30: =IF(R30="","","Ngày "&LEFT(R30,2)&" tháng "&MID(R30,4,2)&" năm "&RIGHT(R30,4)) -> Ngày 02 tháng 01 năm 2015 | T30: 01/01/2015 | V30: =IF(LEFT($Q30,1)="K","Từ ngày: "&$R30,IF(OR(LEFT($Q30,1)="M",LEFT($Q30,1)="1"),"Từ ngày: "&$R30&"- Đến ngày: "&$U30)) -> Từ ngày: 02/01/2015 | W30: 7000000 | X30: =A30&"/HĐLĐ2015" -> 26/HĐLĐ2015
A31: 27 | B31: Lê Đại Tài | C31: Nam | D31: Tổ viên | E31: 1960 | F31: Yên Phụ, Yên Phong, Bắc Ninh | G31: Yên Phụ, Yên Phong, Bắc Ninh | H31: 125685660 | I31: 24/04/2012 | J31: CA Tỉnh Bắc Ninh | K31: 8366864165 | L31: 3100000 | M31: =W31-L31 -> 3900000 | N31: 680000 | O31: Xưởng sản xuất | P31: Tổ viên | Q31: Không xác định thời hạn | R31: 02/01/2015 | S31: =IF(R31="","","Ngày "&LEFT(R31,2)&" tháng "&MID(R31,4,2)&" năm "&RIGHT(R31,4)) -> Ngày 02 tháng 01 năm 2015 | T31: 01/01/2015 | V31: =IF(LEFT($Q31,1)="K","Từ ngày: "&$R31,IF(OR(LEFT($Q31,1)="M",LEFT($Q31,1)="1"),"Từ ngày: "&$R31&"- Đến ngày: "&$U31)) -> Từ ngày: 02/01/2015 | W31: 7000000 | X31: =A31&"/HĐLĐ2015" -> 27/HĐLĐ2015
A32: 28 | B32: Lâm Thị Cành | C32: Nam | D32: P.Quản đốc | E32: 30/04/1959 | F32: Đan Phượng, Hà Tây | G32: Tổ 51, Thị trấn Đông Anh, Hà Nội | H32: 011918992 | I32: 30/10/2005 | J32: CA TP Hà Nội | K32: 8366864045 | L32: 3317000 | M32: =W32-L32 -> 4683000 | N32: 680000 | O32: Xưởng sản xuất | P32: Phó Quản đốc | Q32: Không xác định thời hạn | R32: 02/01/2015 | S32: =IF(R32="","","Ngày "&LEFT(R32,2)&" tháng "&MID(R32,4,2)&" năm "&RIGHT(R32,4)) -> Ngày 02 tháng 01 năm 2015 | T32: 01/01/2015 | V32: =IF(LEFT($Q32,1)="K","Từ ngày: "&$R32,IF(OR(LEFT($Q32,1)="M",LEFT($Q32,1)="1"),"Từ ngày: "&$R32&"- Đến ngày: "&$U32)) -> Từ ngày: 02/01/2015 | W32: 8000000 | X32: =A32&"/HĐLĐ2015" -> 28/HĐLĐ2015 | Y32: 3317000 | Z32: 01/05/2015
A33: 29 | B33: Lê Đức Chinh | C33: Nam | D33: Tổ trưởng | E33: 02/1974 | F33: Tuyên Hóa, Quảng Ninh | G33: Đản Dị, Uy Nỗ, Đông Anh, Hà Nội | H33: 013370323 | I33: 11/12/2010 | J33: CA TP Hà Nội | K33: 8117894120 | L33: 3100000 | M33: =W33-L33 -> 4400000 | N33: 680000 | O33: Xưởng sản xuất | P33: Tổ trưởng | Q33: Không xác định thời hạn | R33: 02/01/2015 | S33: =IF(R33="","","Ngày "&LEFT(R33,2)&" tháng "&MID(R33,4,2)&" năm "&RIGHT(R33,4)) -> Ngày 02 tháng 01 năm 2015 | T33: 01/01/2015 | V33: =IF(LEFT($Q33,1)="K","Từ ngày: "&$R33,IF(OR(LEFT($Q33,1)="M",LEFT($Q33,1)="1"),"Từ ngày: "&$R33&"- Đến ngày: "&$U33)) -> Từ ngày: 02/01/2015 | W33: 7500000 | X33: =A33&"/HĐLĐ2015" -> 29/HĐLĐ2015 | Y33: 3100000 | Z33: 01/05/2015
A34: 30 | B34: Lê Văn Liêm | C34: Nam | D34: Tổ viên | E34: 1961 | F34: Yên Phụ, Yên Phong, Bắc Ninh | G34: Yên Phụ, Yên Phong, Bắc Ninh | H34: 125813177 | I34: 03/04/2014 | J34: CA Tỉnh Bắc Ninh | K34: 8366864197 | L34: 3100000 | M34: =W34-L34 -> 3900000 | N34: 680000 | O34: Xưởng sản xuất | P34: Tổ viên | Q34: Không xác định thời hạn | R34: 02/01/2015 | S34: =IF(R34="","","Ngày "&LEFT(R34,2)&" tháng "&MID(R34,4,2)&" năm "&RIGHT(R34,4)) -> Ngày 02 tháng 01 năm 2015 | T34: 01/01/2015 | V34: =IF(LEFT($Q34,1)="K","Từ ngày: "&$R34,IF(OR(LEFT($Q34,1)="M",LEFT($Q34,1)="1"),"Từ ngày: "&$R34&"- Đến ngày: "&$U34)) -> Từ ngày: 02/01/2015 | W34: 7000000 | X34: =A34&"/HĐLĐ2015" -> 30/HĐLĐ2015
A35: 31 | B35: Nguyễn Chí Thanh | C35: Nam | D35: Tổ trưởng | E35: 15/08/1982 | F35: Bắc Hồng, Đông Anh, Hà Nội | G35: Thụy Hà, Bắc Hồng, Đông Anh, Hà Nội | H35: 012312550 | I35: 09/03/2000 | J35: CA TP Hà Nội | K35: 8359410795 | L35: 3100000 | M35: =W35-L35 -> 4400000 | N35: 680000 | O35: Xưởng sản xuất | P35: Tổ trưởng | Q35: Không xác định thời hạn | R35: 02/01/2015 | S35: =IF(R35="","","Ngày "&LEFT(R35,2)&" tháng "&MID(R35,4,2)&" năm "&RIGHT(R35,4)) -> Ngày 02 tháng 01 năm 2015 | T35: 01/01/2015 | V35: =IF(LEFT($Q35,1)="K","Từ ngày: "&$R35,IF(OR(LEFT($Q35,1)="M",LEFT($Q35,1)="1"),"Từ ngày: "&$R35&"- Đến ngày: "&$U35)) -> Từ ngày: 02/01/2015 | W35: 7500000 | X35: =A35&"/HĐLĐ2015" -> 31/HĐLĐ2015
A36: 32 | B36: Nguyễn Hoàng Tính | C36: Nữ | D36: Tổ viên | E36: 06/1963 | F36: Gia Lâm, Hà Nội | G36: Xóm 3, Phù Đổng, Gia Lâm, Hà Nội | H36: 010712317 | I36: 23/05/1979 | J36: CA TP Hà Nội | K36: 8039248737 | L36: 3100000 | M36: =W36-L36 -> 3900000 | N36: 680000 | O36: Xưởng sản xuất | P36: Tổ viên | Q36: Không xác định thời hạn | R36: 02/01/2015 | S36: =IF(R36="","","Ngày "&LEFT(R36,2)&" tháng "&MID(R36,4,2)&" năm "&RIGHT(R36,4)) -> Ngày 02 tháng 01 năm 2015 | T36: 01/01/2015 | V36: =IF(LEFT($Q36,1)="K","Từ ngày: "&$R36,IF(OR(LEFT($Q36,1)="M",LEFT($Q36,1)="1"),"Từ ngày: "&$R36&"- Đến ngày: "&$U36)) -> Từ ngày: 02/01/2015 | W36: 7000000 | X36: =A36&"/HĐLĐ2015" -> 32/HĐLĐ2015
A37: 33 | B37: Nguyễn Văn Hân | C37: Nam | D37: Tổ viên | E37: 16/02/1984 | F37: Xuân Vinh, Thọ Xuân, Thanh Hóa | G37: Tiền Phong, Mê Linh, Hà Nội | H37: 011621775 | I37: 09/01/2006 | J37: CA TP Hà Nội | K37: 8366864077 | L37: 3100000 | M37: =W37-L37 -> 3900000 | N37: 680000 | O37: Xưởng sản xuất | P37: Tổ viên | Q37: Không xác định thời hạn | R37: 02/01/2015 | S37: =IF(R37="","","Ngày "&LEFT(R37,2)&" tháng "&MID(R37,4,2)&" năm "&RIGHT(R37,4)) -> Ngày 02 tháng 01 năm 2015 | T37: 01/01/2015 | V37: =IF(LEFT($Q37,1)="K","Từ ngày: "&$R37,IF(OR(LEFT($Q37,1)="M",LEFT($Q37,1)="1"),"Từ ngày: "&$R37&"- Đến ngày: "&$U37)) -> Từ ngày: 02/01/2015 | W37: 7000000 | X37: =A37&"/HĐLĐ2015" -> 33/HĐLĐ2015
A38: 34 | B38: Phạm Hoài An | C38: Nam | D38: Tổ trưởng | E38: 04/04/1995 | F38: Kim Chung, Đông Anh, Hà Nội | G38: Thôn Nhuế, Kim Chung, Đông Anh, Hà Nội | H38: 013555739 | I38: 30/05/2012 | J38: CA TP Hà Nội | K38: 8330695322 | L38: 3100000 | M38: =W38-L38 -> 4400000 | N38: 680000 | O38: Xưởng sản xuất | P38: Tổ trưởng | Q38: Không xác định thời hạn | R38: 02/01/2015 | S38: =IF(R38="","","Ngày "&LEFT(R38,2)&" tháng "&MID(R38,4,2)&" năm "&RIGHT(R38,4)) -> Ngày 02 tháng 01 năm 2015 | T38: 01/01/2015 | V38: =IF(LEFT($Q38,1)="K","Từ ngày: "&$R38,IF(OR(LEFT($Q38,1)="M",LEFT($Q38,1)="1"),"Từ ngày: "&$R38&"- Đến ngày: "&$U38)) -> Từ ngày: 02/01/2015 | W38: 7500000 | X38: =A38&"/HĐLĐ2015" -> 34/HĐLĐ2015
A39: 35 | B39: Ngô Minh Hiếu | C39: Nam | D39: Tổ viên | E39: 07/01/1991 | F39: Tiền Phong, Mê Linh, Hà Nội | G39: Do Hạ, Tiền Phong, Mê Linh, Hà Nội | H39: 013222348 | I39: 11/04/2014 | J39: CA TP Hà Nội | K39: 8339790330 | L39: 3100000 | M39: =W39-L39 -> 3900000 | N39: 680000 | O39: Xưởng sản xuất | P39: Tổ viên | Q39: Không xác định thời hạn | R39: 02/01/2015 | S39: =IF(R39="","","Ngày "&LEFT(R39,2)&" tháng "&MID(R39,4,2)&" năm "&RIGHT(R39,4)) -> Ngày 02 tháng 01 năm 2015 | T39: 01/01/2015 | V39: =IF(LEFT($Q39,1)="K","Từ ngày: "&$R39,IF(OR(LEFT($Q39,1)="M",LEFT($Q39,1)="1"),"Từ ngày: "&$R39&"- Đến ngày: "&$U39)) -> Từ ngày: 02/01/2015 | W39: 7000000 | X39: =A39&"/HĐLĐ2015" -> 35/HĐLĐ2015 | Y39: 3100000 | Z39: 01/05/2015
A40: 36 | B40: Nguyễn Mạnh Cường | C40: Nam | D40: Tổ viên | E40: 02/03/1982 | F40: Quang Lãng, Phú Xuyên, Hà Nội | G40: Quang Lãng, Phú Xuyên, Hà Nội | H40: 111635194 | I40: 14/10/2010 | J40: CA TP Hà Nội | K40: 8061031641 | L40: 3100000 | M40: =W40-L40 -> 3900000 | N40: 680000 | O40: Xưởng sản xuất | P40: Tổ viên | Q40: Không xác định thời hạn | R40: 02/01/2015 | S40: =IF(R40="","","Ngày "&LEFT(R40,2)&" tháng "&MID(R40,4,2)&" năm "&RIGHT(R40,4)) -> Ngày 02 tháng 01 năm 2015 | T40: 01/01/2015 | V40: =IF(LEFT($Q40,1)="K","Từ ngày: "&$R40,IF(OR(LEFT($Q40,1)="M",LEFT($Q40,1)="1"),"Từ ngày: "&$R40&"- Đến ngày: "&$U40)) -> Từ ngày: 02/01/2015 | W40: 7000000 | X40: =A40&"/HĐLĐ2015" -> 36/HĐLĐ2015
...

Sheet HDLD
AT1: 03
A2: CÔNG TY TNHH | Q2: CỘNG HOÀ XÃ HỘI CHỦ NGHĨA VIỆT NAM | AT2: =VLOOKUP($AT$1,DMNV!$A$5:$B$45,2,0) -> Nguyễn Quang Đạo
A3: MUA NỖI BUỒN BÁN NIỀM VUI | Q3: Độc lập - Tự do - Hạnh phúc
A5: ="Số: "&VLOOKUP($AT$1,vnv,1,0)&"/HĐLĐ2015" -> Số: 03/HĐLĐ2015 | W5: ="Đông Anh"&", "&VLOOKUP($AT$1,vnv,19,0) -> Đông Anh, Ngày 02 tháng 01 năm 2015
AV6: NGƯỜI VIẾT: ĐÀM VĂN ĐỨC, CẦN HỖ TRỢ LIÊN HỆ FB NẶNG THẦM, 0972075067
A7: HỢP ĐỒNG LAO ĐỘNG | AT7: NGƯỜI VIẾT: ĐÀM VĂN ĐỨC, CẦN HỖ TRỢ LIÊN HỆ FB NẶNG THẦM, 0972075067 | AV7: NGƯỜI VIẾT: ĐÀM VĂN ĐỨC, CẦN HỖ TRỢ LIÊN HỆ FB NẶNG THẦM, 0972075067 | AY7: NGƯỜI VIẾT: ĐÀM VĂN ĐỨC, CẦN HỖ TRỢ LIÊN HỆ FB NẶNG THẦM, 0972075067
A8: (Ban hành kèm theo TT số 21/2003/TT-BLĐTBXH ngày 22/09/2003 | AT8: NGƯỜI VIẾT: ĐÀM VĂN ĐỨC, CẦN HỖ TRỢ LIÊN HỆ FB NẶNG THẦM, 0972075067 | AV8: NGƯỜI VIẾT: ĐÀM VĂN ĐỨC, CẦN HỖ TRỢ LIÊN HỆ FB NẶNG THẦM, 0972075067 | AY8: NGƯỜI VIẾT: ĐÀM VĂN ĐỨC, CẦN HỖ TRỢ LIÊN HỆ FB NẶNG THẦM, 0972075067
A9: của Bộ Lao động – Thương binh và Xã hội) | AT9: NGƯỜI VIẾT: ĐÀM VĂN ĐỨC, CẦN HỖ TRỢ LIÊN HỆ FB NẶNG THẦM, 0972075067 | AY9: NGƯỜI VIẾT: ĐÀM VĂN ĐỨC, CẦN HỖ TRỢ LIÊN HỆ FB NẶNG THẦM, 0972075067
AT10: NGƯỜI VIẾT: ĐÀM VĂN ĐỨC, CẦN HỖ TRỢ LIÊN HỆ FB NẶNG THẦM, 0972075067
A11: Chúng tôi, một bên là: | J11: ="Ông: "&TTDN!$B$11 -> Ông: Đàm Văn Đức | U11: Quốc tịch: Việt Nam | AT11: NGƯỜI VIẾT: ĐÀM VĂN ĐỨC, CẦN HỖ TRỢ LIÊN HỆ FB NẶNG THẦM, 0972075067 | AV11: NGƯỜI VIẾT: ĐÀM VĂN ĐỨC, CẦN HỖ TRỢ LIÊN HỆ FB NẶNG THẦM, 0972075067
A12: Chức vụ: Giám đốc | AT12: NGƯỜI VIẾT: ĐÀM VĂN ĐỨC, CẦN HỖ TRỢ LIÊN HỆ FB NẶNG THẦM, 0972075067 | AV12: NGƯỜI VIẾT: ĐÀM VĂN ĐỨC, CẦN HỖ TRỢ LIÊN HỆ FB NẶNG THẦM, 0972075067
A13: ="Đại diện cho: "&TTDN!$B$6 -> Đại diện cho: Công ty TNHH mua nỗi buồn bán niềm vui | AV13: NGƯỜI VIẾT: ĐÀM VĂN ĐỨC, CẦN HỖ TRỢ LIÊN HỆ FB NẶNG THẦM, 0972075067
A14: ="Địa chỉ: "&TTDN!$B$7 -> Địa chỉ: Phây búc Nặng Thầm
A15: ="Điện thoại: "&TTDN!B9 -> Điện thoại: 0972075067
A16: Và một bên là: | G16: =IF(VLOOKUP(AT1,DMNV!$A$5:$D$45,3,0)="Nam","Ông","Bà") -> Ông | I16: =IF(AT1="","",VLOOKUP($AT$1,vnv,2,0)) -> Nguyễn Quang Đạo | U16: Quốc tịch: Việt Nam
A17: Sinh ngày: | E17: =VLOOKUP($AT$1,vnv,5,0) -> 10/10/1959 | L17: Tại: | N17: =VLOOKUP($AT$1,vnv,6,0) -> Số 63, Tổ 5, Đông Anh, Hà Nội | AZ17: NGƯỜI VIẾT: ĐÀM VĂN ĐỨC, CẦN HỖ TRỢ LIÊN HỆ FB NẶNG THẦM, 0972075067
A18: Địa chỉ thường trú: | I18: =VLOOKUP($AT$1,vnv,7,0) -> Số 63, Tổ 5, Đông Anh, Hà Nội | AU18: NGƯỜI VIẾT: ĐÀM VĂN ĐỨC, CẦN HỖ TRỢ LIÊN HỆ FB NẶNG THẦM, 0972075067 | AZ18: NGƯỜI VIẾT: ĐÀM VĂN ĐỨC, CẦN HỖ TRỢ LIÊN HỆ FB NẶNG THẦM, 0972075067
A19: Số CMTND: | G19: =VLOOKUP($AT$1,vnv,8,0) -> 011643161 | M19: Cấp ngày: | Q19: =VLOOKUP($AT$1,vnv,9,0) -> 24/05/2007 | W19: Nơi cấp: | AA19: =VLOOKUP($AT$1,vnv,10,0) -> CA TP Hà Nội | AU19: NGƯỜI VIẾT: ĐÀM VĂN ĐỨC, CẦN HỖ TRỢ LIÊN HỆ FB NẶNG THẦM, 0972075067 | AZ19: NGƯỜI VIẾT: ĐÀM VĂN ĐỨC, CẦN HỖ TRỢ LIÊN HỆ FB NẶNG THẦM, 0972075067
AU20: NGƯỜI VIẾT: ĐÀM VĂN ĐỨC, CẦN HỖ TRỢ LIÊN HỆ FB NẶNG THẦM, 0972075067
A21: Hai bên thoả thuận ký kết hợp đồng lao động và cam kết đúng những điều khoản sau đây:
A22: Điều 1. Thời hạn và công việc
A23: - | B23: Loại hợp đồng lao động: | L23: =VLOOKUP($AT$1,vnv,17,0)&";" -> Không xác định thời hạn; | AT23: NGƯỜI VIẾT: ĐÀM VĂN ĐỨC, CẦN HỖ TRỢ LIÊN HỆ FB NẶNG THẦM, 0972075067
A24: - | B24: =VLOOKUP($AT$1,vnv,22,0) -> Từ ngày: 02/01/2015 | AT24: NGƯỜI VIẾT: ĐÀM VĂN ĐỨC, CẦN HỖ TRỢ LIÊN HỆ FB NẶNG THẦM, 0972075067 | AV24: NGƯỜI VIẾT: ĐÀM VĂN ĐỨC, CẦN HỖ TRỢ LIÊN HỆ FB NẶNG THẦM, 0972075067
A25: - | B25: Địa điểm làm việc: Tại xưởng sản xuất của Công ty,trong khuôn viên Công ty Cổ phần chế tạo máy | AT25: NGƯỜI VIẾT: ĐÀM VĂN ĐỨC, CẦN HỖ TRỢ LIÊN HỆ FB NẶNG THẦM, 0972075067 | AV25: NGƯỜI VIẾT: ĐÀM VĂN ĐỨC, CẦN HỖ TRỢ LIÊN HỆ FB NẶNG THẦM, 0972075067
A26: điện Việt Nam Hungari - Địa chỉ: Tổ 53, Thị trấn Đông Anh, Huyện Đông Anh, TP Hà Nội; | AV26: NGƯỜI VIẾT: ĐÀM VĂN ĐỨC, CẦN HỖ TRỢ LIÊN HỆ FB NẶNG THẦM, 0972075067
A27: - | B27: Bộ phận làm việc: | I27: =VLOOKUP($AT$1,vnv,15,0)&";" -> Văn phòng;
A28: - | B28: Chức vụ (nếu có): | I28: =VLOOKUP($AT$1,vnv,16,0)&";" -> Phó Giám đốc;
A29: - | B29: Công việc phải làm: Theo sự phân công của Công ty.
A30: Điều 2. Chế độ làm việc
A31: - | B31: Thời giờ làm việc: 8 giờ/ngày;
A32: - | B32: Được cấp phát những dụng cụ làm việc gồm: Theo chính sách của Công ty và yêu cầu công việc.
A33: Điều 3. Quyền lợi và nghĩa vụ của người lao động
A34: 1- Quyền lợi:
A35: - | B35: Phương tiện đi lại làm việc: Tự túc;
A36: - | B36: Mức lương cơ bản: | J36: =VLOOKUP($AT$1,vnv,12,0) -> 6000000 | O36: đồng/tháng;
A37: - | B37: Lương doanh thu: Theo Quy chế lương, thưởng của Công ty;
A38: - | B38: Phụ cấp ăn ca: Theo mức tối đa của quy định nhà nước;
A39: - | B39: Phụ cấp khác: Theo Quy chế lương, thưởng của Công ty;
A40: - | B40: Hình thức trả lương: Bằng tiền mặt hoặc chuyển khoản;
A41: - | B41: Được trả lương: Vào các ngày cuối cùng của tháng hoặc chậm nhất là 6 ngày đầu tháng sau;
...

Sheet PLHD
AT1: 02
A2: CÔNG TY TNHH | Q2: CỘNG HOÀ XÃ HỘI CHỦ NGHĨA VIỆT NAM | AQ2: NGƯỜI VIẾT: ĐÀM VĂN ĐỨC, CẦN HỖ TRỢ LIÊN HỆ FB NẶNG THẦM, 0972075067
A3: MUA NỖI BUỒN BÁN NIỀM VUI | Q3: Độc lập - Tự do - Hạnh phúc | AQ3: NGƯỜI VIẾT: ĐÀM VĂN ĐỨC, CẦN HỖ TRỢ LIÊN HỆ FB NẶNG THẦM, 0972075067
AQ4: NGƯỜI VIẾT: ĐÀM VĂN ĐỨC, CẦN HỖ TRỢ LIÊN HỆ FB NẶNG THẦM, 0972075067
A5: ="Số: "&VLOOKUP($AT$1,vnv,1,0)&"/PLHĐLĐ2015" -> Số: 02/PLHĐLĐ2015 | W5: ="Đông Anh"&", "&VLOOKUP($AT$1,DMNV!$A$5:$S$45,19,0) -> Đông Anh, Ngày 02 tháng 01 năm 2015
A7: PHỤ LỤC HỢP ĐỒNG LAO ĐỘNG
A8: ="(Ban hành kèm theo Hợp đồng lao động số: "&VLOOKUP($AT$1,vnv,26,0)&" ký ngày "&VLOOKUP($AT$1,vnv,20,0)&")" -> (Ban hành kèm theo Hợp đồng lao động số: 01/05/2015 ký ngày 01/01/2015) | AU8: NGƯỜI VIẾT: ĐÀM VĂN ĐỨC, CẦN HỖ TRỢ LIÊN HỆ FB NẶNG THẦM, 0972075067 | AY8: NGƯỜI VIẾT: ĐÀM VĂN ĐỨC, CẦN HỖ TRỢ LIÊN HỆ FB NẶNG THẦM, 0972075067 | BB8: NGƯỜI VIẾT: ĐÀM VĂN ĐỨC, CẦN HỖ TRỢ LIÊN HỆ FB NẶNG THẦM, 0972075067
AU9: NGƯỜI VIẾT: ĐÀM VĂN ĐỨC, CẦN HỖ TRỢ LIÊN HỆ FB NẶNG THẦM, 0972075067 | AY9: NGƯỜI VIẾT: ĐÀM VĂN ĐỨC, CẦN HỖ TRỢ LIÊN HỆ FB NẶNG THẦM, 0972075067 | BB9: NGƯỜI VIẾT: ĐÀM VĂN ĐỨC, CẦN HỖ TRỢ LIÊN HỆ FB NẶNG THẦM, 0972075067
A10: Chúng tôi, một bên là: | J10: ="Ông: "&TTDN!$B$11 -> Ông: Đàm Văn Đức | U10: Quốc tịch: Việt Nam | AU10: NGƯỜI VIẾT: ĐÀM VĂN ĐỨC, CẦN HỖ TRỢ LIÊN HỆ FB NẶNG THẦM, 0972075067 | AY10: NGƯỜI VIẾT: ĐÀM VĂN ĐỨC, CẦN HỖ TRỢ LIÊN HỆ FB NẶNG THẦM, 0972075067 | BB10: NGƯỜI VIẾT: ĐÀM VĂN ĐỨC, CẦN HỖ TRỢ LIÊN HỆ FB NẶNG THẦM, 0972075067
A11: Chức vụ: Giám đốc
A12: ="Đại diện cho: "&TTDN!B$6 -> Đại diện cho: Công ty TNHH mua nỗi buồn bán niềm vui | BA12: NGƯỜI VIẾT: ĐÀM VĂN ĐỨC, CẦN HỖ TRỢ LIÊN HỆ FB NẶNG THẦM, 0972075067
A13: ="Địa chỉ: "&TTDN!B$7 -> Địa chỉ: Phây búc Nặng Thầm | BA13: NGƯỜI VIẾT: ĐÀM VĂN ĐỨC, CẦN HỖ TRỢ LIÊN HỆ FB NẶNG THẦM, 0972075067
A14: ="Điện thoại: "&TTDN!B$9 -> Điện thoại: 0972075067 | BA14: NGƯỜI VIẾT: ĐÀM VĂN ĐỨC, CẦN HỖ TRỢ LIÊN HỆ FB NẶNG THẦM, 0972075067
A15: Và một bên là: | G15: =IF(VLOOKUP(AT1,vnv,3,0)="Nam","Ông","Bà") -> Bà | I15: =IF(AT1="","",VLOOKUP($AT$1,vnv,2,0)) -> Vũ Thị Thanh | U15: Quốc tịch: Việt Nam | AR15: NGƯỜI VIẾT: ĐÀM VĂN ĐỨC, CẦN HỖ TRỢ LIÊN HỆ FB NẶNG THẦM, 0972075067
A16: Sinh ngày: | E16: =VLOOKUP($AT$1,vnv,5,0) -> 10/07/1967 | L16: Tại: | N16: =VLOOKUP($AT$1,vnv,6,0) -> Trần Đăng Ninh, Nam Định | AR16: NGƯỜI VIẾT: ĐÀM VĂN ĐỨC, CẦN HỖ TRỢ LIÊN HỆ FB NẶNG THẦM, 0972075067
A17: Địa chỉ thường trú: | I17: =VLOOKUP($AT$1,vnv,7,0) -> Tổ 3, Thị trấn Đông Anh, Hà Nội | AR17: NGƯỜI VIẾT: ĐÀM VĂN ĐỨC, CẦN HỖ TRỢ LIÊN HỆ FB NẶNG THẦM, 0972075067 | AW17: NGƯỜI VIẾT: ĐÀM VĂN ĐỨC, CẦN HỖ TRỢ LIÊN HỆ FB NẶNG THẦM, 0972075067
A18: Số CMTND: | G18: =VLOOKUP($AT$1,vnv,8,0) -> 011621775 | M18: Cấp ngày: | Q18: =VLOOKUP($AT$1,vnv,9,0) -> 09/01/2006 | W18: Nơi cấp: | AA18: =VLOOKUP($AT$1,vnv,10,0) -> CA TP Hà Nội | AW18: NGƯỜI VIẾT: ĐÀM VĂN ĐỨC, CẦN HỖ TRỢ LIÊN HỆ FB NẶNG THẦM, 0972075067 | BB18: NGƯỜI VIẾT: ĐÀM VĂN ĐỨC, CẦN HỖ TRỢ LIÊN HỆ FB NẶNG THẦM, 0972075067
AW19: NGƯỜI VIẾT: ĐÀM VĂN ĐỨC, CẦN HỖ TRỢ LIÊN HỆ FB NẶNG THẦM, 0972075067 | BB19: NGƯỜI VIẾT: ĐÀM VĂN ĐỨC, CẦN HỖ TRỢ LIÊN HỆ FB NẶNG THẦM, 0972075067
A20: - | B20: ="Căn cứ Hợp đồng lao động số: "&VLOOKUP($AT$1,vnv,24,0)&" ký ngày "&VLOOKUP($AT$1,vnv,20,0)&";" -> Căn cứ Hợp đồng lao động số: 02/HĐLĐ2015 ký ngày 01/01/2015; | AU20: NGƯỜI VIẾT: ĐÀM VĂN ĐỨC, CẦN HỖ TRỢ LIÊN HỆ FB NẶNG THẦM, 0972075067 | BB20: NGƯỜI VIẾT: ĐÀM VĂN ĐỨC, CẦN HỖ TRỢ LIÊN HỆ FB NẶNG THẦM, 0972075067
A21: - | B21: Căn cứ tình hình hoạt động sản xuất kinh doanh của Công ty cổ phần ĐTC Việt Nam. | AU21: NGƯỜI VIẾT: ĐÀM VĂN ĐỨC, CẦN HỖ TRỢ LIÊN HỆ FB NẶNG THẦM, 0972075067
B22: Hai bên cùng thoả thuận ký kết phụ lục này và cam kết đúng những điều khoản sau đây: | AU22: NGƯỜI VIẾT: ĐÀM VĂN ĐỨC, CẦN HỖ TRỢ LIÊN HỆ FB NẶNG THẦM, 0972075067
B23: ="Sửa đổi Khoản 1 Điều 3 Hợp đồng lao động số: "&VLOOKUP($AT$1,vnv,24,0)&" ký ngày "&VLOOKUP($AT$1,vnv,20,0)&" như sau:" -> Sửa đổi Khoản 1 Điều 3 Hợp đồng lao động số: 02/HĐLĐ2015 ký ngày 01/01/2015 như sau: | BC23: NGƯỜI VIẾT: ĐÀM VĂN ĐỨC, CẦN HỖ TRỢ LIÊN HỆ FB NẶNG THẦM, 0972075067
A24: Điều 3. Nghĩa vụ và quyền lợi của người lao động: | BC24: NGƯỜI VIẾT: ĐÀM VĂN ĐỨC, CẦN HỖ TRỢ LIÊN HỆ FB NẶNG THẦM, 0972075067
A25: 1- Quyền lợi: | BC25: NGƯỜI VIẾT: ĐÀM VĂN ĐỨC, CẦN HỖ TRỢ LIÊN HỆ FB NẶNG THẦM, 0972075067
A26: - | B26: Mức lương cơ bản: | J26: =VLOOKUP($AT$1,vnv,25,0) -> 8000000 | O26: đồng/tháng; | AT26: NGƯỜI VIẾT: ĐÀM VĂN ĐỨC, CẦN HỖ TRỢ LIÊN HỆ FB NẶNG THẦM, 0972075067 | AZ26: NGƯỜI VIẾT: ĐÀM VĂN ĐỨC, CẦN HỖ TRỢ LIÊN HỆ FB NẶNG THẦM, 0972075067
A27: - | B27: Phụ cấp gồm: Tiền ăn ca 680.000 đồng/tháng; | AT27: NGƯỜI VIẾT: ĐÀM VĂN ĐỨC, CẦN HỖ TRỢ LIÊN HỆ FB NẶNG THẦM, 0972075067 | AW27: NGƯỜI VIẾT: ĐÀM VĂN ĐỨC, CẦN HỖ TRỢ LIÊN HỆ FB NẶNG THẦM, 0972075067 | AZ27: NGƯỜI VIẾT: ĐÀM VĂN ĐỨC, CẦN HỖ TRỢ LIÊN HỆ FB NẶNG THẦM, 0972075067
A28: - | B28: Hình thức trả lương: Bằng tiền mặt; | AT28: NGƯỜI VIẾT: ĐÀM VĂN ĐỨC, CẦN HỖ TRỢ LIÊN HỆ FB NẶNG THẦM, 0972075067 | AW28: NGƯỜI VIẾT: ĐÀM VĂN ĐỨC, CẦN HỖ TRỢ LIÊN HỆ FB NẶNG THẦM, 0972075067 | AZ28: NGƯỜI VIẾT: ĐÀM VĂN ĐỨC, CẦN HỖ TRỢ LIÊN HỆ FB NẶNG THẦM, 0972075067
A29: - | B29: Được trả lương: Vào các ngày cuối cùng của tháng hoặc chậm nhất là 6 ngày đầu tháng sau; | AW29: NGƯỜI VIẾT: ĐÀM VĂN ĐỨC, CẦN HỖ TRỢ LIÊN HỆ FB NẶNG THẦM, 0972075067
A30: - | B30: Tiền thưởng: Theo Quy chế lương, thưởng của Công ty;
A31: - | B31: Chế độ nâng lương: Theo Quy chế lương, thưởng của Công ty;
A32: - | B32: Được trang bị trang phục, bảo hộ lao động gồm: Tùy theo tình hình hoạt động của Công ty;
A33: - | B33: Chế độ nghỉ ngơi (nghỉ hàng tuần, phép năm,lễ, tết...): Theo quy định của Nhà nước và của Công ty;
A34: - | B34: Bảo hiểm xã hội và bảo hiểm y tế, bảo hiểm thất nghiệp: Theo tỷ lệ quy định của nhà nước;
A35: - | B35: Những thoả thuận khác: Tùy theo tình hình hoạt động của Công ty.
B37: ="Phụ lục này là một phần đi kèm của Hợp đồng lao động số: "&VLOOKUP($AT$1,vnv,24,0)&" ký ngày "&VLOOKUP($AT$1,vnv,20,0) -> Phụ lục này là một phần đi kèm của Hợp đồng lao động số: 02/HĐLĐ2015 ký ngày 01/01/2015
B38: Phụ lục này được lập thành 02 bản có giá trị pháp lý như nhau, mỗi bên giữ 01 bản và có hiệu lực kể
A39: ="từ ngày "&VLOOKUP($AT$1,vnv,26,0)&"." -> từ ngày 01/05/2015.
B40: Phụ lục hợp đồng lao động này làm tại: văn phòng Công ty cổ phần ĐTC Việt Nam.
A42: NGƯỜI LAO ĐỘNG | V42: NGƯỜI SỬ DỤNG LAO ĐỘNG
A43: (Ký, ghi rõ họ tên) | V43: (Ký, ghi rõ họ tên)
...

Sheet CKAT
AT1: 01
A2: CÔNG TY TNHH | Q2: CỘNG HOÀ XÃ HỘI CHỦ NGHĨA VIỆT NAM
A3: MUA NỖI BUỒN BÁN NIỀM VUI | Q3: Độc lập - Tự do - Hạnh phúc
A5: ="Số: "&VLOOKUP($AT$1,vnv,1,0)&"/CCAT2015" -> Số: 01/CCAT2015 | W5: ="Đông Anh"&", "&VLOOKUP($AT$1,DMNV!$A$5:$S$45,19,0) -> Đông Anh, Ngày 02 tháng 01 năm 2015
AU6: NGƯỜI VIẾT: ĐÀM VĂN ĐỨC, CẦN HỖ TRỢ LIÊN HỆ FB NẶNG THẦM, 0972075067 | BA6: NGƯỜI VIẾT: ĐÀM VĂN ĐỨC, CẦN HỖ TRỢ LIÊN HỆ FB NẶNG THẦM, 0972075067
A7: BẢN CAM KẾT AN TOÀN LAO ĐỘNG | AU7: NGƯỜI VIẾT: ĐÀM VĂN ĐỨC, CẦN HỖ TRỢ LIÊN HỆ FB NẶNG THẦM, 0972075067 | AX7: NGƯỜI VIẾT: ĐÀM VĂN ĐỨC, CẦN HỖ TRỢ LIÊN HỆ FB NẶNG THẦM, 0972075067 | BA7: NGƯỜI VIẾT: ĐÀM VĂN ĐỨC, CẦN HỖ TRỢ LIÊN HỆ FB NẶNG THẦM, 0972075067
A8: ="(Ban hành kèm theo Hợp đồng lao động số: "&VLOOKUP($AT$1,vnv,24,0)&" ký ngày "&VLOOKUP($AT$1,vnv,18,0)&")" -> (Ban hành kèm theo Hợp đồng lao động số: 01/HĐLĐ2015 ký ngày 02/01/2015) | AU8: NGƯỜI VIẾT: ĐÀM VĂN ĐỨC, CẦN HỖ TRỢ LIÊN HỆ FB NẶNG THẦM, 0972075067 | AX8: NGƯỜI VIẾT: ĐÀM VĂN ĐỨC, CẦN HỖ TRỢ LIÊN HỆ FB NẶNG THẦM, 0972075067 | BA8: NGƯỜI VIẾT: ĐÀM VĂN ĐỨC, CẦN HỖ TRỢ LIÊN HỆ FB NẶNG THẦM, 0972075067
AX9: NGƯỜI VIẾT: ĐÀM VĂN ĐỨC, CẦN HỖ TRỢ LIÊN HỆ FB NẶNG THẦM, 0972075067
C10: ="Tên tôi là: "&VLOOKUP($AT$1,vnv,2,0) -> Tên tôi là: Bùi Văn Thương | AU10: NGƯỜI VIẾT: ĐÀM VĂN ĐỨC, CẦN HỖ TRỢ LIÊN HỆ FB NẶNG THẦM, 0972075067
C11: ="Bộ phận: "&VLOOKUP($AT$1,vnv,15,0) -> Bộ phận: Văn phòng | AU11: NGƯỜI VIẾT: ĐÀM VĂN ĐỨC, CẦN HỖ TRỢ LIÊN HỆ FB NẶNG THẦM, 0972075067
C12: ="Chức danh: "&VLOOKUP($AT$1,vnv,16,0) -> Chức danh: Chủ tịch HĐQT | AU12: NGƯỜI VIẾT: ĐÀM VĂN ĐỨC, CẦN HỖ TRỢ LIÊN HỆ FB NẶNG THẦM, 0972075067 | AW12: NGƯỜI VIẾT: ĐÀM VĂN ĐỨC, CẦN HỖ TRỢ LIÊN HỆ FB NẶNG THẦM, 0972075067
AW13: NGƯỜI VIẾT: ĐÀM VĂN ĐỨC, CẦN HỖ TRỢ LIÊN HỆ FB NẶNG THẦM, 0972075067
C14: Trước khi vào làm tại công trường này tôi đã được Ban an toàn lao động của Công ty huấn luyện | AU14: NGƯỜI VIẾT: ĐÀM VĂN ĐỨC, CẦN HỖ TRỢ LIÊN HỆ FB NẶNG THẦM, 0972075067 | AW14: NGƯỜI VIẾT: ĐÀM VĂN ĐỨC, CẦN HỖ TRỢ LIÊN HỆ FB NẶNG THẦM, 0972075067
A15: một khóa về nội quy An toàn lao động do Công ty tổ chức. | AU15: NGƯỜI VIẾT: ĐÀM VĂN ĐỨC, CẦN HỖ TRỢ LIÊN HỆ FB NẶNG THẦM, 0972075067 | BB15: NGƯỜI VIẾT: ĐÀM VĂN ĐỨC, CẦN HỖ TRỢ LIÊN HỆ FB NẶNG THẦM, 0972075067
C16: Tôi xin cam kết với lãnh đạo Công ty, sẽ nghiêm chỉnh thực hiện đúng những nội quy an toàn lao | AU16: NGƯỜI VIẾT: ĐÀM VĂN ĐỨC, CẦN HỖ TRỢ LIÊN HỆ FB NẶNG THẦM, 0972075067 | BB16: NGƯỜI VIẾT: ĐÀM VĂN ĐỨC, CẦN HỖ TRỢ LIÊN HỆ FB NẶNG THẦM, 0972075067
A17: động đã được học tập, phổ biến. Trong quá trình làm việc nếu tôi không chấp hành đúng những nội quy | BB17: NGƯỜI VIẾT: ĐÀM VĂN ĐỨC, CẦN HỖ TRỢ LIÊN HỆ FB NẶNG THẦM, 0972075067
A18: an toàn lao động để xảy ra việc gì tôi hoàn toàn chịu trách nhiệm trước Ban lãnh đạo công ty.
A20: NGƯỜI LAO ĐỘNG | V20: NGƯỜI SỬ DỤNG LAO ĐỘNG | AT20: NGƯỜI VIẾT: ĐÀM VĂN ĐỨC, CẦN HỖ TRỢ LIÊN HỆ FB NẶNG THẦM, 0972075067
A21: (Ký, ghi rõ họ tên) | V21: (Ký, ghi rõ họ tên) | AT21: NGƯỜI VIẾT: ĐÀM VĂN ĐỨC, CẦN HỖ TRỢ LIÊN HỆ FB NẶNG THẦM, 0972075067
AT22: NGƯỜI VIẾT: ĐÀM VĂN ĐỨC, CẦN HỖ TRỢ LIÊN HỆ FB NẶNG THẦM, 0972075067 | AX22: NGƯỜI VIẾT: ĐÀM VĂN ĐỨC, CẦN HỖ TRỢ LIÊN HỆ FB NẶNG THẦM, 0972075067
AX23: NGƯỜI VIẾT: ĐÀM VĂN ĐỨC, CẦN HỖ TRỢ LIÊN HỆ FB NẶNG THẦM, 0972075067
AU24: NGƯỜI VIẾT: ĐÀM VĂN ĐỨC, CẦN HỖ TRỢ LIÊN HỆ FB NẶNG THẦM, 0972075067 | AX24: NGƯỜI VIẾT: ĐÀM VĂN ĐỨC, CẦN HỖ TRỢ LIÊN HỆ FB NẶNG THẦM, 0972075067
AT25: NGƯỜI VIẾT: ĐÀM VĂN ĐỨC, CẦN HỖ TRỢ LIÊN HỆ FB NẶNG THẦM, 0972075067 | AU25: NGƯỜI VIẾT: ĐÀM VĂN ĐỨC, CẦN HỖ TRỢ LIÊN HỆ FB NẶNG THẦM, 0972075067
AT26: NGƯỜI VIẾT: ĐÀM VĂN ĐỨC, CẦN HỖ TRỢ LIÊN HỆ FB NẶNG THẦM, 0972075067 | AU26: NGƯỜI VIẾT: ĐÀM VĂN ĐỨC, CẦN HỖ TRỢ LIÊN HỆ FB NẶNG THẦM, 0972075067
A27: =VLOOKUP($AT$1,vnv,2,0) -> Bùi Văn Thương | V27: =TTDN!$B$11 -> Đàm Văn Đức | AT27: NGƯỜI VIẾT: ĐÀM VĂN ĐỨC, CẦN HỖ TRỢ LIÊN HỆ FB NẶNG THẦM, 0972075067

Sheet CK02
AT1: 02
A2: CỘNG HOÀ XÃ HỘI CHỦ NGHĨA VIỆT NAM | AT2: =VLOOKUP($AT$1,vnv,11,0) -> 8184128925
A3: Độc lập - Tự do - Hạnh phúc
AV4: NGƯỜI VIẾT: ĐÀM VĂN ĐỨC, CẦN HỖ TRỢ LIÊN HỆ FB NẶNG THẦM, 0972075067
AV5: NGƯỜI VIẾT: ĐÀM VĂN ĐỨC, CẦN HỖ TRỢ LIÊN HỆ FB NẶNG THẦM, 0972075067
AV6: NGƯỜI VIẾT: ĐÀM VĂN ĐỨC, CẦN HỖ TRỢ LIÊN HỆ FB NẶNG THẦM, 0972075067
A7: BẢN CAM KẾT | BA7: NGƯỜI VIẾT: ĐÀM VĂN ĐỨC, CẦN HỖ TRỢ LIÊN HỆ FB NẶNG THẦM, 0972075067
A8: (Áp dụng cho cá nhân chưa đến mức thu nhập chịu thuế TNCN) | AT8: NGƯỜI VIẾT: ĐÀM VĂN ĐỨC, CẦN HỖ TRỢ LIÊN HỆ FB NẶNG THẦM, 0972075067 | BA8: NGƯỜI VIẾT: ĐÀM VĂN ĐỨC, CẦN HỖ TRỢ LIÊN HỆ FB NẶNG THẦM, 0972075067
AT9: NGƯỜI VIẾT: ĐÀM VĂN ĐỨC, CẦN HỖ TRỢ LIÊN HỆ FB NẶNG THẦM, 0972075067 | BA9: NGƯỜI VIẾT: ĐÀM VĂN ĐỨC, CẦN HỖ TRỢ LIÊN HỆ FB NẶNG THẦM, 0972075067
G10: ="Kính gửi: "&TTDN!$B$6 -> Kính gửi: Công ty TNHH mua nỗi buồn bán niềm vui | AT10: NGƯỜI VIẾT: ĐÀM VĂN ĐỨC, CẦN HỖ TRỢ LIÊN HỆ FB NẶNG THẦM, 0972075067
C11: ="1. Tên tôi là: "&VLOOKUP($AT$1,vnv,2,0) -> 1. Tên tôi là: Vũ Thị Thanh
C12: 2. Mã số thuế | J12: =LEFT($AT$2,1) -> 8 | K12: =MID($AT$2,2,1) -> 1 | L12: =MID($AT$2,3,1) -> 8 | M12: =MID($AT$2,4,1) -> 4 | N12: =MID($AT$2,5,1) -> 1 | O12: =MID($AT$2,6,1) -> 2 | P12: =MID($AT$2,7,1) -> 8 | Q12: =MID($AT$2,8,1) -> 9 | R12: =MID($AT$2,9,1) -> 2 | S12: =MID($AT$2,10,1) -> 5 | AZ12: NGƯỜI VIẾT: ĐÀM VĂN ĐỨC, CẦN HỖ TRỢ LIÊN HỆ FB NẶNG THẦM, 0972075067
C13: ="3. Số CMND: "&VLOOKUP($AT$1,vnv,8,0)&"; Ngày cấp: "&VLOOKUP($AT$1,vnv,9,0)&"; Nơi cấp: "&VLOOKUP($AT$1,vnv,10,0) -> 3. Số CMND: 011621775; Ngày cấp: 09/01/2006; Nơi cấp: CA TP Hà Nội | AZ13: NGƯỜI VIẾT: ĐÀM VĂN ĐỨC, CẦN HỖ TRỢ LIÊN HỆ FB NẶNG THẦM, 0972075067
C14: ="4. Địa chỉ cư trú: "&VLOOKUP($AT$1,vnv,7,0) -> 4. Địa chỉ cư trú: Tổ 3, Thị trấn Đông Anh, Hà Nội | AZ14: NGƯỜI VIẾT: ĐÀM VĂN ĐỨC, CẦN HỖ TRỢ LIÊN HỆ FB NẶNG THẦM, 0972075067
C15: ="5. Tên tổ chức, cá nhân trả thu nhập: "&TTDN!$B$6 -> 5. Tên tổ chức, cá nhân trả thu nhập: Công ty TNHH mua nỗi buồn bán niềm vui | AX15: NGƯỜI VIẾT: ĐÀM VĂN ĐỨC, CẦN HỖ TRỢ LIÊN HỆ FB NẶNG THẦM, 0972075067
C16: ="Tôi cam kết rằng trong năm tôi chỉ có thu nhập duy nhất tại "&TTDN!$B$6 -> Tôi cam kết rằng trong năm tôi chỉ có thu nhập duy nhất tại Công ty TNHH mua nỗi buồn bán niềm vui | AT16: NGƯỜI VIẾT: ĐÀM VĂN ĐỨC, CẦN HỖ TRỢ LIÊN HỆ FB NẶNG THẦM, 0972075067 | AX16: NGƯỜI VIẾT: ĐÀM VĂN ĐỨC, CẦN HỖ TRỢ LIÊN HỆ FB NẶNG THẦM, 0972075067 | BB16: NGƯỜI VIẾT: ĐÀM VĂN ĐỨC, CẦN HỖ TRỢ LIÊN HỆ FB NẶNG THẦM, 0972075067
B17: nhưng ước tính tổng thu nhập không quá 108.000.000 (một trăm linh tám triệu đồng), nên không đến | AT17: NGƯỜI VIẾT: ĐÀM VĂN ĐỨC, CẦN HỖ TRỢ LIÊN HỆ FB NẶNG THẦM, 0972075067 | AX17: NGƯỜI VIẾT: ĐÀM VĂN ĐỨC, CẦN HỖ TRỢ LIÊN HỆ FB NẶNG THẦM, 0972075067 | BB17: NGƯỜI VIẾT: ĐÀM VĂN ĐỨC, CẦN HỖ TRỢ LIÊN HỆ FB NẶNG THẦM, 0972075067
B18: mức phải nộp thuế TNCN. | AT18: NGƯỜI VIẾT: ĐÀM VĂN ĐỨC, CẦN HỖ TRỢ LIÊN HỆ FB NẶNG THẦM, 0972075067 | BB18: NGƯỜI VIẾT: ĐÀM VĂN ĐỨC, CẦN HỖ TRỢ LIÊN HỆ FB NẶNG THẦM, 0972075067
C19: Tôi xin cam đoan số liệu khai trên là đúng và chịu trách nhiệm trước pháp luật về những số liệu
B20: đã khai.
X21: =TTDN!$B$16 -> Hà Nội, ngày 31 tháng 12 năm 2015
V22: CÁ NHÂN CAM KẾT
V23: (Ký, ghi rõ họ tên) | AU23: NGƯỜI VIẾT: ĐÀM VĂN ĐỨC, CẦN HỖ TRỢ LIÊN HỆ FB NẶNG THẦM, 0972075067 | AW23: NGƯỜI VIẾT: ĐÀM VĂN ĐỨC, CẦN HỖ TRỢ LIÊN HỆ FB NẶNG THẦM, 0972075067
AU24: NGƯỜI VIẾT: ĐÀM VĂN ĐỨC, CẦN HỖ TRỢ LIÊN HỆ FB NẶNG THẦM, 0972075067 | AW24: NGƯỜI VIẾT: ĐÀM VĂN ĐỨC, CẦN HỖ TRỢ LIÊN HỆ FB NẶNG THẦM, 0972075067
AT25: NGƯỜI VIẾT: ĐÀM VĂN ĐỨC, CẦN HỖ TRỢ LIÊN HỆ FB NẶNG THẦM, 0972075067 | AU25: NGƯỜI VIẾT: ĐÀM VĂN ĐỨC, CẦN HỖ TRỢ LIÊN HỆ FB NẶNG THẦM, 0972075067 | AW25: NGƯỜI VIẾT: ĐÀM VĂN ĐỨC, CẦN HỖ TRỢ LIÊN HỆ FB NẶNG THẦM, 0972075067
AT26: NGƯỜI VIẾT: ĐÀM VĂN ĐỨC, CẦN HỖ TRỢ LIÊN HỆ FB NẶNG THẦM, 0972075067
AT27: NGƯỜI VIẾT: ĐÀM VĂN ĐỨC, CẦN HỖ TRỢ LIÊN HỆ FB NẶNG THẦM, 0972075067
V29: =VLOOKUP($AT$1,vnv,2,0) -> Vũ Thị Thanh
