Workbook
Name dmdong: IF(SCT!$G$8="131",vkh,IF(SCT!$G$8="141",vnv,IF(SCT!$G$8="331",vncc,"")))
Name intp: IN_PNX!$M$6:$M$202
Name invl: IN_PNX!$K$6:$K$202
Name inhh: IN_PNX!$O$6:$O$202
Name ipc: IN_PTC!$M$5:$M$200
Name ipt: IN_PTC!$N$5:$N$200
Name ixhh: IN_PNX!$P$6:$P$202
Name ixtp: IN_PNX!$N$6:$N$202
Name ixvl: IN_PNX!$L$6:$L$202
Name mcdpsc: DULIEU!$AR$7:$AR$532
Name mcdpsn: DULIEU!$AQ$7:$AQ$532
Name mct: DULIEU!$H$7:$H$532
Name mkh: DMKH!$B$10:$B$25
Name mkhncc: DMKH!$B$10:$B$47
Name mncc: DMKH!$K$10:$K$25
Name mnv: NV!$B$10:$B$30
Name mtk: DMTK!$C$10:$C$160
Name mvt: DMVT!$B$10:$B$30
Name stps: DULIEU!$X$7:$X$532
Name stpsccdps: CĐPS!$M$5:$M$155
Name stpsncdps: CĐPS!$L$5:$L$155
Name va: 'B03'!$AGO$25:$AGP$29
Name vb01ac: CĐPS!$ADV$5:$ADV$155
Name vb01an: CĐPS!$ADU$5:$ADU$155
Name vb01bc: CĐPS!$ADX$5:$ADX$155
Name vb01bn: CĐPS!$ADW$5:$ADW$155
Name vb02a: DULIEU!$AW$7:$AW$532
Name vd: 'B03'!$AGR$10:$AGS$12
Name vdl: DULIEU!$H$7:$AM$532
Name ve: 'B03'!$AGI$10:$AGJ$12
Name vf: 'B03'!$AGR$13:$AGS$17
Name vg: 'B03'!$AGR$18:$AGS$20
Name vh: 'B03'!$AGR$21:$AGS$23
Name vi: 'B03'!$AGO$10:$AGP$16
Name vj: 'B03'!$AGR$24:$AGS$26
Name vkh: DMKH!$B$10:$I$25
Name vkhncc: DMKH!$B$10:$I$47
Name vlctt: DULIEU!$V$6:$X$532
Name vncc: DMKH!$K$10:$R$25
Name vnv: NV!$B$10:$I$30
Name vnx: DULIEU!$J$7:$AM$532
Name vo: 'B03'!$AGO$17:$AGP$19
Name vp: 'B03'!$AGO$20:$AGP$24
Name vq: 'B03'!$AGF$10:$AGG$18
Name vr: 'B03'!$AGI$13:$AGJ$17
Name vs: 'B03'!$AGO$30:$AGP$32
Name vt: 'B03'!$AGI$18:$AGJ$20
Name vtk: DMTK!$C$10:$J$160
Name vtkc: DULIEU!$W$7:$W$532
Name vtkn: DULIEU!$V$7:$V$532
Name vu: 'B03'!$AGL$10:$AGM$42
Name vvt: DMVT!$B$10:$I$30
Name vw: 'B03'!$AGF$19:$AGG$39
Name vy: 'B03'!$AGI$21:$AGJ$31

Sheet MENU
A1: NGƯỜI VIẾT: ĐÀM VĂN ĐỨC, CẦN HỖ TRỢ LIÊN HỆ FB NẶNG THẦM, 0972075067 | B1: NGƯỜI VIẾT BÀI: ĐÀM VĂN ĐỨC | C1: PHẦM MỀM KẾ TOÁN EXCEL THÔNG TƯ 133 | M1: NGƯỜI VIẾT: ĐÀM VĂN ĐỨC, CẦN HỖ TRỢ LIÊN HỆ FB NẶNG THẦM, 0972075067 | N1: NGƯỜI VIẾT: ĐÀM VĂN ĐỨC, CẦN HỖ TRỢ LIÊN HỆ FB NẶNG THẦM, 0972075067
A2: NGƯỜI VIẾT: ĐÀM VĂN ĐỨC, CẦN HỖ TRỢ LIÊN HỆ FB NẶNG THẦM, 0972075067 | B2: NGƯỜI VIẾT BÀI: ĐÀM VĂN ĐỨC | C2: BẢNG DANH MỤC | E2: NGƯỜI VIẾT: ĐÀM VĂN ĐỨC, CẦN HỖ TRỢ LIÊN HỆ FB NẶNG THẦM, 0972075067 | G2: SỔ NHẬT KÝ | I2: NGƯỜI VIẾT: ĐÀM VĂN ĐỨC, CẦN HỖ TRỢ LIÊN HỆ FB NẶNG THẦM, 0972075067 | K2: SỔ CHI TIẾT | M2: NGƯỜI VIẾT: ĐÀM VĂN ĐỨC, CẦN HỖ TRỢ LIÊN HỆ FB NẶNG THẦM, 0972075067 | N2: NGƯỜI VIẾT: ĐÀM VĂN ĐỨC, CẦN HỖ TRỢ LIÊN HỆ FB NẶNG THẦM, 0972075067
A3: NGƯỜI VIẾT: ĐÀM VĂN ĐỨC, CẦN HỖ TRỢ LIÊN HỆ FB NẶNG THẦM, 0972075067 | B3: NGƯỜI VIẾT BÀI: ĐÀM VĂN ĐỨC | C3: Thông tin doanh nghiệp | E3: NGƯỜI VIẾT: ĐÀM VĂN ĐỨC, CẦN HỖ TRỢ LIÊN HỆ FB NẶNG THẦM, 0972075067 | G3: Sổ nhật ký chung | I3: NGƯỜI VIẾT: ĐÀM VĂN ĐỨC, CẦN HỖ TRỢ LIÊN HỆ FB NẶNG THẦM, 0972075067 | K3: Sổ chi tiết tài khoản | M3: NGƯỜI VIẾT: ĐÀM VĂN ĐỨC, CẦN HỖ TRỢ LIÊN HỆ FB NẶNG THẦM, 0972075067 | N3: NGƯỜI VIẾT: ĐÀM VĂN ĐỨC, CẦN HỖ TRỢ LIÊN HỆ FB NẶNG THẦM, 0972075067
A4: NGƯỜI VIẾT: ĐÀM VĂN ĐỨC, CẦN HỖ TRỢ LIÊN HỆ FB NẶNG THẦM, 0972075067 | B4: NGƯỜI VIẾT BÀI: ĐÀM VĂN ĐỨC | C4: Danh mục tài khoản | E4: NGƯỜI VIẾT: ĐÀM VĂN ĐỨC, CẦN HỖ TRỢ LIÊN HỆ FB NẶNG THẦM, 0972075067 | G4: Sổ nhật ký thu tiền | I4: NGƯỜI VIẾT: ĐÀM VĂN ĐỨC, CẦN HỖ TRỢ LIÊN HỆ FB NẶNG THẦM, 0972075067 | K4: Sổ chi tiết 111, 112 | M4: NGƯỜI VIẾT: ĐÀM VĂN ĐỨC, CẦN HỖ TRỢ LIÊN HỆ FB NẶNG THẦM, 0972075067 | N4: NGƯỜI VIẾT: ĐÀM VĂN ĐỨC, CẦN HỖ TRỢ LIÊN HỆ FB NẶNG THẦM, 0972075067
A5: NGƯỜI VIẾT: ĐÀM VĂN ĐỨC, CẦN HỖ TRỢ LIÊN HỆ FB NẶNG THẦM, 0972075067 | B5: NGƯỜI VIẾT BÀI: ĐÀM VĂN ĐỨC | C5: Danh mục VL, HH | E5: NGƯỜI VIẾT: ĐÀM VĂN ĐỨC, CẦN HỖ TRỢ LIÊN HỆ FB NẶNG THẦM, 0972075067 | G5: Sổ nhật ký chi tiền | I5: NGƯỜI VIẾT: ĐÀM VĂN ĐỨC, CẦN HỖ TRỢ LIÊN HỆ FB NẶNG THẦM, 0972075067 | K5: Sổ chi tiết 131, 331 | M5: NGƯỜI VIẾT: ĐÀM VĂN ĐỨC, CẦN HỖ TRỢ LIÊN HỆ FB NẶNG THẦM, 0972075067 | N5: NGƯỜI VIẾT: ĐÀM VĂN ĐỨC, CẦN HỖ TRỢ LIÊN HỆ FB NẶNG THẦM, 0972075067
A6: NGƯỜI VIẾT: ĐÀM VĂN ĐỨC, CẦN HỖ TRỢ LIÊN HỆ FB NẶNG THẦM, 0972075067 | B6: NGƯỜI VIẾT: ĐÀM VĂN ĐỨC, CẦN HỖ TRỢ LIÊN HỆ FB NẶNG THẦM, 0972075067 | C6: Danh mục KH, NCC | E6: NGƯỜI VIẾT: ĐÀM VĂN ĐỨC, CẦN HỖ TRỢ LIÊN HỆ FB NẶNG THẦM, 0972075067 | G6: Sổ nhật ký mua hàng | I6: NGƯỜI VIẾT: ĐÀM VĂN ĐỨC, CẦN HỖ TRỢ LIÊN HỆ FB NẶNG THẦM, 0972075067 | K6: Sổ chi tiết 152, 153, 155, 156 | M6: NGƯỜI VIẾT: ĐÀM VĂN ĐỨC, CẦN HỖ TRỢ LIÊN HỆ FB NẶNG THẦM, 0972075067 | N6: NGƯỜI VIẾT: ĐÀM VĂN ĐỨC, CẦN HỖ TRỢ LIÊN HỆ FB NẶNG THẦM, 0972075067
A7: NGƯỜI VIẾT BÀI: ĐÀM VĂN ĐỨC | B7: NGƯỜI VIẾT: ĐÀM VĂN ĐỨC, CẦN HỖ TRỢ LIÊN HỆ FB NẶNG THẦM, 0972075067 | C7: Danh mục nhân viên | E7: NGƯỜI VIẾT: ĐÀM VĂN ĐỨC, CẦN HỖ TRỢ LIÊN HỆ FB NẶNG THẦM, 0972075067 | G7: Sổ nhật ký bán hàng | I7: NGƯỜI VIẾT: ĐÀM VĂN ĐỨC, CẦN HỖ TRỢ LIÊN HỆ FB NẶNG THẦM, 0972075067 | K7: Sổ chi tiết 154 | M7: NGƯỜI VIẾT: ĐÀM VĂN ĐỨC, CẦN HỖ TRỢ LIÊN HỆ FB NẶNG THẦM, 0972075067 | N7: NGƯỜI VIẾT: ĐÀM VĂN ĐỨC, CẦN HỖ TRỢ LIÊN HỆ FB NẶNG THẦM, 0972075067
A8: NGƯỜI VIẾT BÀI: ĐÀM VĂN ĐỨC | E8: NGƯỜI VIẾT: ĐÀM VĂN ĐỨC, CẦN HỖ TRỢ LIÊN HỆ FB NẶNG THẦM, 0972075067 | K8: NGƯỜI VIẾT: ĐÀM VĂN ĐỨC, CẦN HỖ TRỢ LIÊN HỆ FB NẶNG THẦM, 0972075067 | M8: NGƯỜI VIẾT: ĐÀM VĂN ĐỨC, CẦN HỖ TRỢ LIÊN HỆ FB NẶNG THẦM, 0972075067 | N8: NGƯỜI VIẾT: ĐÀM VĂN ĐỨC, CẦN HỖ TRỢ LIÊN HỆ FB NẶNG THẦM, 0972075067
A9: NGƯỜI VIẾT BÀI: ĐÀM VĂN ĐỨC | K9: NGƯỜI VIẾT: ĐÀM VĂN ĐỨC, CẦN HỖ TRỢ LIÊN HỆ FB NẶNG THẦM, 0972075067 | M9: NGƯỜI VIẾT: ĐÀM VĂN ĐỨC, CẦN HỖ TRỢ LIÊN HỆ FB NẶNG THẦM, 0972075067 | N9: NGƯỜI VIẾT: ĐÀM VĂN ĐỨC, CẦN HỖ TRỢ LIÊN HỆ FB NẶNG THẦM, 0972075067
F10: DỮ LIỆU KẾ TOÁN | K10: NGƯỜI VIẾT: ĐÀM VĂN ĐỨC, CẦN HỖ TRỢ LIÊN HỆ FB NẶNG THẦM, 0972075067 | M10: NGƯỜI VIẾT: ĐÀM VĂN ĐỨC, CẦN HỖ TRỢ LIÊN HỆ FB NẶNG THẦM, 0972075067 | N10: NGƯỜI VIẾT: ĐÀM VĂN ĐỨC, CẦN HỖ TRỢ LIÊN HỆ FB NẶNG THẦM, 0972075067
F11: =NOW() -> 42704.551
G12: =IF(AND(G13>6,G13<12),"Chúc bạn ngày mới tốt lành :P",IF(AND(G13>=11,G13<13),"Nghỉ trưa thôi bạn, khò khò :D",IF(AND(G13>=13,G13<=17),"Làm việc buổi chiều nào :P",IF(AND(G13>17,G13<=24),"Chúc bạn buổi tối vui vẻ :D",IF(AND(G13>=0,G13<=6),"Chúc bạn ngủ ngon, khò khò :P",""))))) -> Làm việc buổi chiều nào :P
G13: =HOUR(H13) -> 13 | H13: =NOW() -> 42704.551
C14: SỔ TỔNG HỢP | E14: NGƯỜI VIẾT: ĐÀM VĂN ĐỨC, CẦN HỖ TRỢ LIÊN HỆ FB NẶNG THẦM, 0972075067 | G14: VAT | K14: BÁO CÁO TÀI CHÍNH
C15: Sổ cái | G15: In phiếu thu chi | K15: Bảng CDPS năm
C16: Sổ tổng hợp 131 | G16: In phiếu nhập xuất | K16: Bảng cân đối kế toán
C17: Sổ tổng hợp 131, 331 | G17: In phiếu kế toán | K17: Báo cáo KQKD
C18: Sổ tổng hợp 152, 153, 155, 156 | G18: Bảng kê mua vào | K18: Báo cáo LCTT
C19: Sổ tổng hợp 154 | G19: Bảng kê bán ra | K19: Bản thuyết minh BCTC
E20: NGƯỜI VIẾT: ĐÀM VĂN ĐỨC, CẦN HỖ TRỢ LIÊN HỆ FB NẶNG THẦM, 0972075067
C21: NGƯỜI VIẾT: ĐÀM VĂN ĐỨC, CẦN HỖ TRỢ LIÊN HỆ FB NẶNG THẦM, 0972075067

Sheet TTDN
B3: NGƯỜI VIẾT: ĐÀM VĂN ĐỨC, CẦN HỖ TRỢ LIÊN HỆ FB NẶNG THẦM, 0972075067
A4: THÔNG TIN DOANH NGHIỆP
A5: Diễn giải | B5: Thông tin
A6: Tên doanh nghiệp | B6: Công ty TNHH mua nỗi buồn bán niềm vui
A7: Địa chỉ trụ sở | B7: Phây búc Nặng Thầm
A8: Mã số thuế | B8: https://www.facebook.com/lang.tham.33
A9: Điện thoại | B9: 0972075067
A10: Email | B10: ducdamkt@gmail.com
A11: Giám đốc | B11: Đàm Văn Đức
A12: Kế toán trưởng | B12: Đàm Vĩnh Hưng
A13: Người lập biểu | B13: Sơn Tùng MTP
A14: Thủ kho | B14: Đan Nguyên
A15: Thủ quỹ | B15: Hồ Ngọc Hà
A16: Từ ngày 01/01/2015 đến ngày 31/12/2015 | B16: Hà Nội, ngày 31 tháng 12 năm 2015
B17: Năm 2015

Sheet DMTK
C4: ="Đơn vị: "&TTDN!$B$6 -> Đơn vị: Công ty TNHH mua nỗi buồn bán niềm vui | E4: NGƯỜI VIẾT: ĐÀM VĂN ĐỨC, CẦN HỖ TRỢ LIÊN HỆ FB NẶNG THẦM, 0972075067
C5: ="Địa chỉ: "&TTDN!$B$7 -> Địa chỉ: Phây búc Nặng Thầm
C7: BẢNG CÂN ĐỐI PHÁT SINH TÀI KHOẢN
C9: Tài khoản | D9: Tên tài khoản | E9: Dư nợ đầu kỳ | F9: Dư có đầu kỳ | G9: Phát sinh nợ | H9: Phát sinh có | I9: Dư nợ cuối kỳ | J9: Dư có cuối kỳ
A10: x | B10: 111* | C10: 111 | D10: Tiền mặt | E10: =SUM(E11:E12) -> 0 | F10: =SUM(F11:F12) -> 0 | G10: =SUMIF(vtkn,B10,stps) -> 2134610000 | H10: =SUMIF(vtkc,B10,stps) -> 126342500 | I10: =MAX(E10+G10-F10-H10,0) -> 2008267500 | J10: =MAX(F10+H10-E10-G10,0) -> 0
B11: 1111 | C11: 1111 | D11: Tiền mặt | G11: =SUMIF(vtkn,B11,stps) -> 2134610000 | H11: =SUMIF(vtkc,B11,stps) -> 126342500 | I11: =MAX(E11+G11-F11-H11,0) -> 2008267500 | J11: =MAX(F11+H11-E11-G11,0) -> 0
B12: 1112 | C12: 1112 | D12: Tiền mặt ngoại tệ | G12: =SUMIF(vtkn,B12,stps) -> 0 | H12: =SUMIF(vtkc,B12,stps) -> 0
A13: x | B13: 112* | C13: 112 | D13: Tiền gửi ngân hàng | E13: =SUM(E14:E17) -> 0 | F13: =SUM(F14:F17) -> 0 | G13: =SUMIF(vtkn,B13,stps) -> 140210013 | H13: =SUMIF(vtkc,B13,stps) -> 129616000 | I13: =MAX(E13+G13-F13-H13,0) -> 10594013 | J13: =MAX(F13+H13-E13-G13,0) -> 0
B14: 1121 | C14: 1121 | D14: Tiền mặt | G14: =SUMIF(vtkn,B14,stps) -> 0 | H14: =SUMIF(vtkc,B14,stps) -> 0 | I14: =MAX(E14+G14-F14-H14,0) -> 0 | J14: =MAX(F14+H14-E14-G14,0) -> 0
B15: 11211 | C15: 11211 | D15: Ngân hàng PG Bank | G15: =SUMIF(vtkn,B15,stps) -> 140210013 | H15: =SUMIF(vtkc,B15,stps) -> 129616000 | I15: =MAX(E15+G15-F15-H15,0) -> 10594013 | J15: =MAX(F15+H15-E15-G15,0) -> 0
B16: 11212 | C16: 11212 | D16: Ngân hàng VC Bank | G16: =SUMIF(vtkn,B16,stps) -> 0 | H16: =SUMIF(vtkc,B16,stps) -> 0 | I16: =MAX(E16+G16-F16-H16,0) -> 0 | J16: =MAX(F16+H16-E16-G16,0) -> 0
B17: 1122 | C17: 1122 | D17: Tiền ngoại tệ | G17: =SUMIF(vtkn,B17,stps) -> 0 | H17: =SUMIF(vtkc,B17,stps) -> 0 | I17: =MAX(E17+G17-F17-H17,0) -> 0 | J17: =MAX(F17+H17-E17-G17,0) -> 0
A18: x | B18: 121* | C18: 121 | D18: Chứng khoán kinh doanh | G18: =SUMIF(vtkn,B18,stps) -> 0 | H18: =SUMIF(vtkc,B18,stps) -> 0
A19: x | B19: 128* | C19: 128 | D19: Đầu tư nắm giữ đến ngày đáo hạn | E19: =SUM(E20:E21) -> 0 | F19: =SUM(F20:F21) -> 0 | G19: =SUMIF(vtkn,B19,stps) -> 0 | H19: =SUMIF(vtkc,B19,stps) -> 0
B20: 1281 | C20: 1281 | D20: Tiền gửi có kỳ hạn | G20: =SUMIF(vtkn,B20,stps) -> 0 | H20: =SUMIF(vtkc,B20,stps) -> 0 | I20: =MAX(E20+G20-F20-H20,0) -> 0 | J20: =MAX(F20+H20-E20-G20,0) -> 0
B21: 1288 | C21: 1288 | D21: Các khoản đầu tư khác nắm giữ đến ngày đáo hạn | G21: =SUMIF(vtkn,B21,stps) -> 0 | H21: =SUMIF(vtkc,B21,stps) -> 0 | I21: =MAX(E21+G21-F21-H21,0) -> 0 | J21: =MAX(F21+H21-E21-G21,0) -> 0
A22: x | B22: 131 | C22: 131 | D22: Phải thu của khách hàng | G22: =SUMIF(vtkn,B22,stps) -> 24310000 | H22: =SUMIF(vtkc,B22,stps) -> 129200000 | I22: =MAX(E22+G22-F22-H22,0) -> 0 | J22: =MAX(F22+H22-E22-G22,0) -> 104890000
A23: x | B23: 133* | C23: 133 | D23: Thuế giá trị gia tăng được khấu trừ | E23: =SUM(E24:E25) -> 0 | F23: =SUM(F24:F25) -> 0 | G23: =SUMIF(vtkn,B23,stps) -> 107700 | H23: =SUMIF(vtkc,B23,stps) -> 107700 | I23: =MAX(E23+G23-F23-H23,0) -> 0 | J23: =MAX(F23+H23-E23-G23,0) -> 0
B24: 1331 | C24: 1331 | D24: Thuế VAT được khấu trừ của hàng hoá, dịch vụ | G24: =SUMIF(vtkn,B24,stps) -> 107700 | H24: =SUMIF(vtkc,B24,stps) -> 107700 | I24: =MAX(E24+G24-F24-H24,0) -> 0 | J24: =MAX(F24+H24-E24-G24,0) -> 0
B25: 1332 | C25: 1332 | D25: Thuế VAT được khấu trừ của TSCĐ | G25: =SUMIF(vtkn,B25,stps) -> 0 | H25: =SUMIF(vtkc,B25,stps) -> 0 | I25: =MAX(E25+G25-F25-H25,0) -> 0 | J25: =MAX(F25+H25-E25-G25,0) -> 0
A26: x | B26: 136* | C26: 136 | D26: Phải thu nội bộ | E26: =SUM(E27:E28) -> 0 | F26: =SUM(F27:F28) -> 0 | G26: =SUMIF(vtkn,B26,stps) -> 0 | H26: =SUMIF(vtkc,B26,stps) -> 0 | I26: =MAX(E26+G26-F26-H26,0) -> 0 | J26: =MAX(F26+H26-E26-G26,0) -> 0
B27: 1361 | C27: 1361 | D27: Vốn kinh doanh ở đơn vị trực thuộc | G27: =SUMIF(vtkn,B27,stps) -> 0 | H27: =SUMIF(vtkc,B27,stps) -> 0 | I27: =MAX(E27+G27-F27-H27,0) -> 0 | J27: =MAX(F27+H27-E27-G27,0) -> 0
B28: 1368 | C28: 1368 | D28: Phải thu nội bộ khác | G28: =SUMIF(vtkn,B28,stps) -> 0 | H28: =SUMIF(vtkc,B28,stps) -> 0 | I28: =MAX(E28+G28-F28-H28,0) -> 0 | J28: =MAX(F28+H28-E28-G28,0) -> 0
A29: x | B29: 138* | C29: 138 | D29: Phải thu khác | E29: =SUM(E30:E32) -> 0 | F29: =SUM(F30:F32) -> 0 | G29: =SUMIF(vtkn,B29,stps) -> 0 | H29: =SUMIF(vtkc,B29,stps) -> 0 | I29: =MAX(E29+G29-F29-H29,0) -> 0 | J29: =MAX(F29+H29-E29-G29,0) -> 0
B30: 1381 | C30: 1381 | D30: Tài sản thiếu chờ xử lý | G30: =SUMIF(vtkn,B30,stps) -> 0 | H30: =SUMIF(vtkc,B30,stps) -> 0 | I30: =MAX(E30+G30-F30-H30,0) -> 0 | J30: =MAX(F30+H30-E30-G30,0) -> 0
B31: 1386 | C31: 1386 | D31: Cầm cố, thế chấp, ký quỹ, ký cược | G31: =SUMIF(vtkn,B31,stps) -> 0 | H31: =SUMIF(vtkc,B31,stps) -> 0 | I31: =MAX(E31+G31-F31-H31,0) -> 0 | J31: =MAX(F31+H31-E31-G31,0) -> 0
B32: 1388 | C32: 1388 | D32: Phải thu khác | G32: =SUMIF(vtkn,B32,stps) -> 0 | H32: =SUMIF(vtkc,B32,stps) -> 0 | I32: =MAX(E32+G32-F32-H32,0) -> 0 | J32: =MAX(F32+H32-E32-G32,0) -> 0
A33: x | B33: 141 | C33: 141 | D33: Tạm ứng | G33: =SUMIF(vtkn,B33,stps) -> 500000 | H33: =SUMIF(vtkc,B33,stps) -> 500000 | I33: =MAX(E33+G33-F33-H33,0) -> 0 | J33: =MAX(F33+H33-E33-G33,0) -> 0
A34: x | B34: 151 | C34: 151 | D34: Hàng mua đang đi đường | G34: =SUMIF(vtkn,B34,stps) -> 0 | H34: =SUMIF(vtkc,B34,stps) -> 0 | I34: =MAX(E34+G34-F34-H34,0) -> 0 | J34: =MAX(F34+H34-E34-G34,0) -> 0
A35: x | B35: 152* | C35: 152 | D35: Nguyên liệu, vật liệu | E35: =SUM(E36:E38) -> 0 | F35: =SUM(F36:F38) -> 0 | G35: =SUMIF(vtkn,B35,stps) -> 752000 | H35: =SUMIF(vtkc,B35,stps) -> 535200 | I35: =MAX(E35+G35-F35-H35,0) -> 216800 | J35: =MAX(F35+H35-E35-G35,0) -> 0
B36: 1521 | C36: 1521 | D36: Nguyên vật liệu chính | G36: =SUMIF(vtkn,B36,stps) -> 752000 | H36: =SUMIF(vtkc,B36,stps) -> 535200 | I36: =MAX(E36+G36-F36-H36,0) -> 216800 | J36: =MAX(F36+H36-E36-G36,0) -> 0
B37: 1522 | C37: 1522 | D37: Nguyên vật liệu phụ | G37: =SUMIF(vtkn,B37,stps) -> 0 | H37: =SUMIF(vtkc,B37,stps) -> 0 | I37: =MAX(E37+G37-F37-H37,0) -> 0 | J37: =MAX(F37+H37-E37-G37,0) -> 0
B38: 1523 | C38: 1523 | D38: Vật liệu, phế liệu khác | G38: =SUMIF(vtkn,B38,stps) -> 0 | H38: =SUMIF(vtkc,B38,stps) -> 0 | I38: =MAX(E38+G38-F38-H38,0) -> 0 | J38: =MAX(F38+H38-E38-G38,0) -> 0
A39: x | B39: 153 | C39: 153 | D39: Công cụ, dụng cụ | G39: =SUMIF(vtkn,B39,stps) -> 0 | H39: =SUMIF(vtkc,B39,stps) -> 0 | I39: =MAX(E39+G39-F39-H39,0) -> 0 | J39: =MAX(F39+H39-E39-G39,0) -> 0
A40: x | B40: 154* | C40: 154 | D40: Chi phí sản xuất kinh doanh dở dang | E40: =SUM(E41:E44) -> 0 | F40: =SUM(F41:F44) -> 0 | G40: =SUMIF(vtkn,B40,stps) -> 22709000 | H40: =SUMIF(vtkc,B40,stps) -> 19135000 | I40: =MAX(E40+G40-F40-H40,0) -> 3574000 | J40: =MAX(F40+H40-E40-G40,0) -> 0
B41: 1541 | C41: 1541 | D41: Chi phí nguyên vật liệu | G41: =SUMIF(vtkn,B41,stps) -> 0 | H41: =SUMIF(vtkc,B41,stps) -> 0 | I41: =MAX(E41+G41-F41-H41,0) -> 0 | J41: =MAX(F41+H41-E41-G41,0) -> 0
B42: 1542 | C42: 1542 | D42: Chi phí nhân công | G42: =SUMIF(vtkn,B42,stps) -> 22709000 | H42: =SUMIF(vtkc,B42,stps) -> 19135000 | I42: =MAX(E42+G42-F42-H42,0) -> 3574000 | J42: =MAX(F42+H42-E42-G42,0) -> 0
B43: 1543 | C43: 1543 | D43: Chi phí máy thi công | G43: =SUMIF(vtkn,B43,stps) -> 0 | H43: =SUMIF(vtkc,B43,stps) -> 0 | I43: =MAX(E43+G43-F43-H43,0) -> 0 | J43: =MAX(F43+H43-E43-G43,0) -> 0
B44: 1547 | C44: 1547 | D44: Chi phí sản xuất chung | G44: =SUMIF(vtkn,B44,stps) -> 0 | H44: =SUMIF(vtkc,B44,stps) -> 0 | I44: =MAX(E44+G44-F44-H44,0) -> 0 | J44: =MAX(F44+H44-E44-G44,0) -> 0
A45: x | B45: 155 | C45: 155 | D45: Thành phẩm | G45: =SUMIF(vtkn,B45,stps) -> 0 | H45: =SUMIF(vtkc,B45,stps) -> 0 | I45: =MAX(E45+G45-F45-H45,0) -> 0 | J45: =MAX(F45+H45-E45-G45,0) -> 0
...

Sheet DMVT
A4: ="Đơn vị: "&TTDN!$B$6 -> Đơn vị: Công ty TNHH mua nỗi buồn bán niềm vui | D4: NGƯỜI VIẾT: ĐÀM VĂN ĐỨC, CẦN HỖ TRỢ LIÊN HỆ FB NẶNG THẦM, 0972075067
A5: ="Địa chỉ: "&TTDN!$B$7 -> Địa chỉ: Phây búc Nặng Thầm
A7: DANH MỤC VẬT TƯ, THÀNH PHẨM, HÀNG HÓA
A9: STT | B9: Mã | C9: Tên | D9: Đơn vị tính | E9: TK kho | F9: Tên kho | G9: Đơn giá | H9: SL tồn | I9: GT tồn
A10: =IF(B10="","",MAX($A$9:A9)+1) -> 1 | B10: HD0504/HĐKT | C10: Hợp đồng thiết kế bản vẽ kỹ thuật thi công nhà công vụ
A11: =IF(B11="","",MAX($A$9:A10)+1) -> 2 | B11: HD1509/HĐKT | C11: Hợp đồng thiết kế bản vẽ kỹ thuật thi công nhà máy sơn vỏ bình ga
A12: =IF(B12="","",MAX($A$9:A11)+1) -> 3 | B12: HD2611/HĐKT | C12: Hợp đồng thiết kế bản vẽ kỹ thuật thi công khách sạn Sơn Trà - Đà Nẵng
A13: =IF(B13="","",MAX($A$9:A12)+1) -> 4 | B13: DTMK2.0 | C13: Dây thép mạ kẽm 2.0 | D13: Kg | E13: 1521 | F13: Vật liệu chính
A14: =IF(B14="","",MAX($A$9:A13)+1) -> 5 | B14: DTMK2.2 | C14: Dây thép mạ kẽm 2.2 | D14: Kg | E14: 1521 | F14: Vật liệu chính
A15: =IF(B15="","",MAX($A$9:A14)+1) -> 6 | B15: DTMK2.6 | C15: Dây thép mạ kẽm 2.6 | D15: Kg | E15: 1521 | F15: Vật liệu chính
A16: =IF(B16="","",MAX($A$9:A15)+1) -> 7 | B16: PL | C16: Phế liệu | D16: Kg | E16: 1523 | F16: Phế liệu
A17: =IF(B17="","",MAX($A$9:A16)+1) -> 8 | B17: PP | C17: Phế phẩm | D17: Kg | E17: 1523 | F17: Phế liệu
A18: =IF(B18="","",MAX($A$9:A17)+1) -> 9 | B18: DTCL05 | C18: Lưới thép hàn mạ kẽm ĐTC L05 | D18: Cuộn | E18: 155 | F18: Thành phẩm
A19: =IF(B19="","",MAX($A$9:A18)+1)
A20: =IF(B20="","",MAX($A$9:A19)+1)
A21: =IF(B21="","",MAX($A$9:A20)+1)
A22: =IF(B22="","",MAX($A$9:A21)+1)
A23: =IF(B23="","",MAX($A$9:A22)+1)
A24: =IF(B24="","",MAX($A$9:A23)+1)
A25: =IF(B25="","",MAX($A$9:A24)+1)
A26: =IF(B26="","",MAX($A$9:A25)+1)
A27: =IF(B27="","",MAX($A$9:A26)+1)
A28: =IF(B28="","",MAX($A$9:A27)+1)
A29: =IF(B29="","",MAX($A$9:A28)+1)
A30: =IF(B30="","",MAX($A$9:A29)+1)

Sheet NV
A4: ="Đơn vị: "&TTDN!$B$6 -> Đơn vị: Công ty TNHH mua nỗi buồn bán niềm vui | F4: NGƯỜI VIẾT: ĐÀM VĂN ĐỨC, CẦN HỖ TRỢ LIÊN HỆ FB NẶNG THẦM, 0972075067
A5: ="Địa chỉ: "&TTDN!$B$7 -> Địa chỉ: Phây búc Nặng Thầm
A7: DANH MỤC NHÂN VIÊN
A9: STT | B9: Mã | C9: Họ và tên | D9: Bộ phận | E9: Chức vụ | F9: Mã số thuế | G9: Địa chỉ | H9: Dư Nợ | I9: Dư Có
A10: =IF(B10="","",MAX($A$9:A9)+1) -> 1 | B10: minh.lv | C10: Lê Văn Minh | D10: x | H10: 6
A11: =IF(B11="","",MAX($A$9:A10)+1) -> 2 | B11: quan.nv | C11: Nguyễn Văn Quân | D11: x | I11: 7
A12: =IF(B12="","",MAX($A$9:A11)+1)
A13: =IF(B13="","",MAX($A$9:A12)+1)
A14: =IF(B14="","",MAX($A$9:A13)+1)
A15: =IF(B15="","",MAX($A$9:A14)+1)
A16: =IF(B16="","",MAX($A$9:A15)+1)
A17: =IF(B17="","",MAX($A$9:A16)+1)
A18: =IF(B18="","",MAX($A$9:A17)+1)
A19: =IF(B19="","",MAX($A$9:A18)+1)
A20: =IF(B20="","",MAX($A$9:A19)+1)
A21: =IF(B21="","",MAX($A$9:A20)+1)
A22: =IF(B22="","",MAX($A$9:A21)+1)
A23: =IF(B23="","",MAX($A$9:A22)+1)
... A30: =IF(B30="","",MAX($A$9:A29)+1)

Sheet DMKH
A4: ="Đơn vị: "&TTDN!$B$6 -> Đơn vị: Công ty TNHH mua nỗi buồn bán niềm vui | F4: NGƯỜI VIẾT: ĐÀM VĂN ĐỨC, CẦN HỖ TRỢ LIÊN HỆ FB NẶNG THẦM, 0972075067
A5: ="Địa chỉ: "&TTDN!$B$7 -> Địa chỉ: Phây búc Nặng Thầm
A7: DANH MỤC KHÁCH HÀNG
A9: STT | B9: Mã | C9: Tên | D9: Mã số thuế | E9: Địa chỉ | F9: Mẫu HĐ | G9: Ký hiệu HĐ | H9: Dư Nợ đầu kỳ | I9: Dư Có đầu kỳ | J9: Kiểm tra mã | S9: x
A10: =IF(B10="","",MAX($A$9:A9)+1) -> 1 | B10: gas.cty | C10: Công ty TNHH DHV - GAS | E10: z | H10: 1 | I10: 0 | J10: =IF(COUNTIF($D$10:$D$47,$D10)>1,"Trùng mã","") | K10: =IF(B27="","",B27) -> hongphat.cty | L10: =IF(C27="","",C27) -> Công ty TNHH Hồng Phát | M10: =IF(D27="","",D27) | N10: =IF(E27="","",E27) | O10: =IF(F27="","",F27) | P10: =IF(G27="","",G27) | Q10: =IF(H27="",0,H27) -> 0 | R10: =IF(I27="",0,I27) -> 4
A11: =IF(B11="","",MAX($A$9:A10)+1) -> 2 | B11: lfd.cty | C11: Cty TNHH Linh Inteck LFD | E11: h | H11: 0 | I11: 2 | J11: =IF(COUNTIF($D$10:$D$47,$D11)>1,"Trùng mã","") | K11: =IF(B28="","",B28) -> phuhai.cty | L11: =IF(C28="","",C28) -> Công ty TNHH Phú Hải | M11: =IF(D28="","",D28) | N11: =IF(E28="","",E28) | O11: =IF(F28="","",F28) | P11: =IF(G28="","",G28) | Q11: =IF(H28="",0,H28) -> 5 | R11: =IF(I28="",0,I28) -> 0
A12: =IF(B12="","",MAX($A$9:A11)+1) -> 3 | B12: vitoan.cty | C12: Cty TNHH Công trình kiến trúc Vi Toản | E12: a | H12: 3 | I12: 0 | J12: =IF(COUNTIF($D$10:$D$47,$D12)>1,"Trùng mã","") | K12: =IF(B29="","",B29) | L12: =IF(C29="","",C29) | M12: =IF(D29="","",D29) | N12: =IF(E29="","",E29) | O12: =IF(F29="","",F29) | P12: =IF(G29="","",G29) | Q12: =IF(H29="",0,H29) -> 0 | R12: =IF(I29="",0,I29) -> 0
A13: =IF(B13="","",MAX($A$9:A12)+1) | J13: =IF(COUNTIF($D$10:$D$47,$D13)>1,"Trùng mã","") | K13: =IF(B30="","",B30) | L13: =IF(C30="","",C30) | M13: =IF(D30="","",D30) | N13: =IF(E30="","",E30) | O13: =IF(F30="","",F30) | P13: =IF(G30="","",G30) | Q13: =IF(H30="",0,H30) -> 0 | R13: =IF(I30="",0,I30) -> 0
A14: =IF(B14="","",MAX($A$9:A13)+1) | J14: =IF(COUNTIF($D$10:$D$47,$D14)>1,"Trùng mã","") | K14: =IF(B31="","",B31) | L14: =IF(C31="","",C31) | M14: =IF(D31="","",D31) | N14: =IF(E31="","",E31) | O14: =IF(F31="","",F31) | P14: =IF(G31="","",G31) | Q14: =IF(H31="",0,H31) -> 0 | R14: =IF(I31="",0,I31) -> 0
A15: =IF(B15="","",MAX($A$9:A14)+1) | J15: =IF(COUNTIF($D$10:$D$47,$D15)>1,"Trùng mã","") | K15: =IF(B32="","",B32) | L15: =IF(C32="","",C32) | M15: =IF(D32="","",D32) | N15: =IF(E32="","",E32) | O15: =IF(F32="","",F32) | P15: =IF(G32="","",G32) | Q15: =IF(H32="",0,H32) -> 0 | R15: =IF(I32="",0,I32) -> 0
A16: =IF(B16="","",MAX($A$9:A15)+1) | J16: =IF(COUNTIF($D$10:$D$47,$D16)>1,"Trùng mã","") | K16: =IF(B33="","",B33) | L16: =IF(C33="","",C33) | M16: =IF(D33="","",D33) | N16: =IF(E33="","",E33) | O16: =IF(F33="","",F33) | P16: =IF(G33="","",G33) | Q16: =IF(H33="",0,H33) -> 0 | R16: =IF(I33="",0,I33) -> 0
A17: =IF(B17="","",MAX($A$9:A16)+1) | J17: =IF(COUNTIF($D$10:$D$47,$D17)>1,"Trùng mã","") | K17: =IF(B34="","",B34) | L17: =IF(C34="","",C34) | M17: =IF(D34="","",D34) | N17: =IF(E34="","",E34) | O17: =IF(F34="","",F34) | P17: =IF(G34="","",G34) | Q17: =IF(H34="",0,H34) -> 0 | R17: =IF(I34="",0,I34) -> 0
A18: =IF(B18="","",MAX($A$9:A17)+1) | J18: =IF(COUNTIF($D$10:$D$47,$D18)>1,"Trùng mã","") | K18: =IF(B35="","",B35) | L18: =IF(C35="","",C35) | M18: =IF(D35="","",D35) | N18: =IF(E35="","",E35) | O18: =IF(F35="","",F35) | P18: =IF(G35="","",G35) | Q18: =IF(H35="",0,H35) -> 0 | R18: =IF(I35="",0,I35) -> 0
A19: =IF(B19="","",MAX($A$9:A18)+1) | J19: =IF(COUNTIF($D$10:$D$47,$D19)>1,"Trùng mã","") | K19: =IF(B36="","",B36) | L19: =IF(C36="","",C36) | M19: =IF(D36="","",D36) | N19: =IF(E36="","",E36) | O19: =IF(F36="","",F36) | P19: =IF(G36="","",G36) | Q19: =IF(H36="",0,H36) -> 0 | R19: =IF(I36="",0,I36) -> 0
A20: =IF(B20="","",MAX($A$9:A19)+1) | J20: =IF(COUNTIF($D$10:$D$47,$D20)>1,"Trùng mã","") | K20: =IF(B37="","",B37) | L20: =IF(C37="","",C37) | M20: =IF(D37="","",D37) | N20: =IF(E37="","",E37) | O20: =IF(F37="","",F37) | P20: =IF(G37="","",G37) | Q20: =IF(H37="",0,H37) -> 0 | R20: =IF(I37="",0,I37) -> 0
A21: =IF(B21="","",MAX($A$9:A20)+1) | J21: =IF(COUNTIF($D$10:$D$47,$D21)>1,"Trùng mã","") | K21: =IF(B38="","",B38) | L21: =IF(C38="","",C38) | M21: =IF(D38="","",D38) | N21: =IF(E38="","",E38) | O21: =IF(F38="","",F38) | P21: =IF(G38="","",G38) | Q21: =IF(H38="",0,H38) -> 0 | R21: =IF(I38="",0,I38) -> 0
A22: =IF(B22="","",MAX($A$9:A21)+1) | J22: =IF(COUNTIF($D$10:$D$47,$D22)>1,"Trùng mã","") | K22: =IF(B39="","",B39) | L22: =IF(C39="","",C39) | M22: =IF(D39="","",D39) | N22: =IF(E39="","",E39) | O22: =IF(F39="","",F39) | P22: =IF(G39="","",G39) | Q22: =IF(H39="",0,H39) -> 0 | R22: =IF(I39="",0,I39) -> 0
A23: =IF(B23="","",MAX($A$9:A22)+1) | J23: =IF(COUNTIF($D$10:$D$47,$D23)>1,"Trùng mã","") | K23: =IF(B40="","",B40) | L23: =IF(C40="","",C40) | M23: =IF(D40="","",D40) | N23: =IF(E40="","",E40) | O23: =IF(F40="","",F40) | P23: =IF(G40="","",G40) | Q23: =IF(H40="",0,H40) -> 0 | R23: =IF(I40="",0,I40) -> 0
A24: =IF(B24="","",MAX($A$9:A23)+1) | J24: =IF(COUNTIF($D$10:$D$47,$D24)>1,"Trùng mã","") | K24: =IF(B41="","",B41) | L24: =IF(C41="","",C41) | M24: =IF(D41="","",D41) | N24: =IF(E41="","",E41) | O24: =IF(F41="","",F41) | P24: =IF(G41="","",G41) | Q24: =IF(H41="",0,H41) -> 0 | R24: =IF(I41="",0,I41) -> 0
A25: =IF(B25="","",MAX($A$9:A24)+1) | J25: =IF(COUNTIF($D$10:$D$47,$D25)>1,"Trùng mã","") | K25: =IF(B42="","",B42) | L25: =IF(C42="","",C42) | M25: =IF(D42="","",D42) | N25: =IF(E42="","",E42) | O25: =IF(F42="","",F42) | P25: =IF(G42="","",G42) | Q25: =IF(H42="",0,H42) -> 0 | R25: =IF(I42="",0,I42) -> 0
A26: DANH MỤC NHÀ CUNG CẤP
A27: =IF(B27="","",MAX($A$26:A26)+1) -> 1 | B27: hongphat.cty | C27: Công ty TNHH Hồng Phát | I27: 4 | J27: =IF(COUNTIF($D$10:$D$47,$D27)>1,"Trùng mã","")
A28: =IF(B28="","",MAX($A$26:A27)+1) -> 2 | B28: phuhai.cty | C28: Công ty TNHH Phú Hải | H28: 5 | J28: =IF(COUNTIF($D$10:$D$47,$D28)>1,"Trùng mã","")
A29: =IF(B29="","",MAX($A$26:A28)+1) | J29: =IF(COUNTIF($D$10:$D$47,$D29)>1,"Trùng mã","")
A30: =IF(B30="","",MAX($A$26:A29)+1) | J30: =IF(COUNTIF($D$10:$D$47,$D30)>1,"Trùng mã","")
A31: =IF(B31="","",MAX($A$26:A30)+1) | J31: =IF(COUNTIF($D$10:$D$47,$D31)>1,"Trùng mã","")
A32: =IF(B32="","",MAX($A$26:A31)+1) | J32: =IF(COUNTIF($D$10:$D$47,$D32)>1,"Trùng mã","")
A33: =IF(B33="","",MAX($A$26:A32)+1) | J33: =IF(COUNTIF($D$10:$D$47,$D33)>1,"Trùng mã","")
A34: =IF(B34="","",MAX($A$26:A33)+1) | J34: =IF(COUNTIF($D$10:$D$47,$D34)>1,"Trùng mã","")
A35: =IF(B35="","",MAX($A$26:A34)+1) | J35: =IF(COUNTIF($D$10:$D$47,$D35)>1,"Trùng mã","")
A36: =IF(B36="","",MAX($A$26:A35)+1) | J36: =IF(COUNTIF($D$10:$D$47,$D36)>1,"Trùng mã","")
A37: =IF(B37="","",MAX($A$26:A36)+1) | J37: =IF(COUNTIF($D$10:$D$47,$D37)>1,"Trùng mã","")
A38: =IF(B38="","",MAX($A$26:A37)+1) | J38: =IF(COUNTIF($D$10:$D$47,$D38)>1,"Trùng mã","")
A39: =IF(B39="","",MAX($A$26:A38)+1) | J39: =IF(COUNTIF($D$10:$D$47,$D39)>1,"Trùng mã","")
A40: =IF(B40="","",MAX($A$26:A39)+1) | J40: =IF(COUNTIF($D$10:$D$47,$D40)>1,"Trùng mã","")
... A47: =IF(B47="","",MAX($A$26:A46)+1) | J47: =IF(COUNTIF($D$10:$D$47,$D47)>1,"Trùng mã","")

Sheet DULIEU
L2: DỮ LIỆU KẾ TOÁN
B3: ="Đơn vị: "&TTDN!$B$6 -> Đơn vị: Công ty TNHH mua nỗi buồn bán niềm vui | L3: =NOW() -> 42704.551
B4: ="Địa chỉ: "&TTDN!$B$7 -> Địa chỉ: Phây búc Nặng Thầm | K4: NGƯỜI VIẾT: ĐÀM VĂN ĐỨC, CẦN HỖ TRỢ LIÊN HỆ FB NẶNG THẦM, 0972075067 | L4: =IF(AND(O5>6,O5<12),"Chúc bạn ngày mới tốt lành :P",IF(AND(O5>=11,O5<13),"Nghỉ trưa thôi bạn, khò khò :D",IF(AND(O5>=13,O5<=17),"Làm việc buổi chiều nào :D",IF(AND(O5>17,O5<=24),"Chúc bạn buổi tối vui vẻ :D",IF(AND(O5>=0,O5<=6),"Chúc bạn ngủ ngon, khò khò :D",""))))) -> Làm việc buổi chiều nào :D
A5: PT | B5: PC | C5: PKT | D5: MH | E5: BH | F5: NVL | G5: XVL | H5: NTP | I5: XTP | J5: NHH | K5: XHH | L5: GBN | M5: GBC | O5: =HOUR(P5) -> 13 | P5: =NOW() -> 42704.551
A6: Tháng | D6: Ngày ghi sổ | E6: Ngày chứng từ gốc | F6: Số CTG | G6: 1 | H6: Số CTGS | I6: 1 | K6: Mã CN | L6: Tên CN | M6: Mã BP, KH | N6: Tên KH | O6: Diễn giải | P6: Mã VL,SP | Q6: Tên Vl,SP | R6: SL N | S6: SL X | T6: Đơn giá | U6: Tập hợp CP | V6: TK Ghi nợ | W6: TK Ghi có | X6: Số tiền phát sinh | Y6: Kiểm tra TK Nợ | Z6: Kiểm tra TK Có | AA6: Kiểm tra số ctừ | AB6: Thuế suất | AC6: Tiền thuế | AD6: Tên khách hàng | AE6: Địa chỉ | AF6: Ký hiệu HĐ | AG6: Ký hiệu mẫu HĐ | AH6: Số HĐ | AI6: Mã Số thuế | AJ6: Tài khoản PC | AK6: Số tiền PC | AL6: Mã dd/mm/yyyy | AM6: Mã ngày tháng năm | AN6: Mã TKN 131, 331 | AO6: Mã TKC 131, 331 | AP6: Kỳ thuế VAT | AQ6: MãN CĐPS | AR6: MãC CĐPS | AS6: MãN | AT6: Mã X | AU6: Mã Ct154 | AV6: Mã Z154 | AW6: Mã BCKQKD
A7: =IF(D7>0,MONTH(D7),0) -> 1 | B7: PC | C7: NVL | D7: 02/01/2015 | E7: 12/11/2014 | F7: 1 | G7: {=IF(B7<>"",IF(AND(OR(V7=V6,W7=W6),F7=F6,K7=K6,N7=N6),G6,MAX(IF(B7=B$6:$B6,$G$6:G6))+1),"")} -> 1 | H7: =IF(B7<>"",B7&TEXT(G7,"000"),"") -> PC001 | I7: {=IF(C7<>"",IF(AND(OR(V7=V6,W7=W6),F7=F6,K7=K6,N7=N6),I6,MAX(IF(C7=C$6:$C6,$I$6:I6))+1),"")} -> 1 | J7: =IF(C7<>"",C7&TEXT(I7,"000"),"") -> NVL001 | K7: minh.lv | L7: =IF($K7>0,VLOOKUP($K7,NV!$B$4:$C$33,2,0),"") -> Lê Văn Minh | N7: =IF($M7>0,VLOOKUP($M7,vkhncc,2,0),"") | O7: Góp vốn kinh doanh | Q7: =IF($P7>0,VLOOKUP($P7,vvt,2,0),"") | T7: =IFERROR(INDEX(NX!$L$9:$L$168,MATCH($A7&$P7,NX!$B$9:$B$169,0)),"") | V7: 1111 | W7: 4111 | X7: 2000000000 | Y7: =IF($V7="","",IF(ISNA(VLOOKUP($V7,mtk,1,0)),"Không có",VLOOKUP($V7,mtk,1,0))) -> 1111 | Z7: =IF($V7="","",IF(ISNA(VLOOKUP($W7,mtk,1,0)),"Không có",VLOOKUP($W7,mtk,1,0))) -> 4111 | AA7: =IF(COUNTIF($H$6:$H$526,$H7)>1,"Trùng mã",0) -> 0 | AC7: =ROUND(X7*AB7,0) -> 0 | AD7: =IF($M7="","",VLOOKUP($M7,vkhncc,2,0)) | AE7: =IF($M7="","",VLOOKUP($M7,vkhncc,4,0)) | AF7: =IF($AB7<>"",VLOOKUP($M7,vkhncc,7,0),"") | AG7: =IF($AB7<>"",VLOOKUP($M7,vkhncc,8,0),"") | AH7: =IF(OR($AB7<>"",C7="nvl",C7="nhh"),$F7,"") -> 1 | AI7: =IF($AB7<>"",VLOOKUP($M7,vkhncc,3,0),"") | AJ7: =IF(AND(H7=H8,V7=V8),W8,IF(AND(H7=H8,W7=W8),V8,"")) | AK7: =IF(AND(H7=H8,V7=V8),X8,IF(AND(H7=H8,W7=W8),X8,"")) | AL7: =D7 -> 02/01/2015 | AM7: =IF(D7="","","Ngày "&LEFT(D7,2)&" tháng "&MID(D7,4,2)&" năm "&RIGHT(D7,4)) -> Ngày 02 tháng 01 năm 2015 | AN7: =V7&M7 -> 1111 | AO7: =W7&M7 -> 4111 | AP7: =IF($AB7="","",IF(OR(MID($D7,4,2)="01",MID($D7,4,2)="02",MID($D7,4,2)="03"),"1",IF(OR(MID($D7,4,2)="04",MID($D7,4,2)="05",MID($D7,4,2)="06"),"2",IF(OR(MID($D7,4,2)="07",MID($D7,4,2)="08",MID($D7,4,2)="09"),"3",IF(OR(MID($D7,4,2)="10",MID($D7,4,2)="11",MID($D7,4,2)="12"),"4"))))) | AQ7: =A7&"-"&V7 -> 1-1111 | AR7: =A7&"-"&W7 -> 1-4111 | AS7: =IF(LEFT($J7,1)="n",A7&P7,"") -> 1 | AT7: =IF(LEFT($J7,1)="x",A7&P7,"") | AU7: =$A7&$H7&$U7&$V7 -> 1PC0011111 | AV7: =$A7&$U7&$W7 -> 14111 | AW7: =$A7&"-"&V7&"-"&W7 -> 1-1111-4111
A8: =IF(D8>0,MONTH(D8),0) -> 1 | B8: BH | C8: XVL | D8: 02/01/2015 | E8: 02/01/2015 | F8: v | G8: {=IF(B8<>"",IF(AND(OR(V8=V7,W8=W7),F8=F7,K8=K7,N8=N7),G7,MAX(IF(B8=B$6:$B7,$G$6:G7))+1),"")} -> 1 | H8: =IF(B8<>"",B8&TEXT(G8,"000"),"") -> BH001 | I8: {=IF(C8<>"",IF(AND(OR(V8=V7,W8=W7),F8=F7,K8=K7,N8=N7),I7,MAX(IF(C8=C$6:$C7,$I$6:I7))+1),"")} -> 1 | J8: =IF(C8<>"",C8&TEXT(I8,"000"),"") -> XVL001 | K8: quan.nv | L8: =IF($K8>0,VLOOKUP($K8,NV!$B$4:$C$33,2,0),"") -> Nguyễn Văn Quân | N8: =IF($M8>0,VLOOKUP($M8,vkhncc,2,0),"") | O8: Thưởng ngày tết dương lịch | Q8: =IF($P8>0,VLOOKUP($P8,vvt,2,0),"") | T8: =IFERROR(INDEX(NX!$L$9:$L$168,MATCH($A8&$P8,NX!$B$9:$B$169,0)),"") | V8: 64228 | W8: 1111 | X8: 4000000 | Y8: =IF($V8="","",IF(ISNA(VLOOKUP($V8,mtk,1,0)),"Không có",VLOOKUP($V8,mtk,1,0))) -> 64228 | Z8: =IF($V8="","",IF(ISNA(VLOOKUP($W8,mtk,1,0)),"Không có",VLOOKUP($W8,mtk,1,0))) -> 1111 | AA8: =IF(COUNTIF($H$6:$H$526,$H8)>1,"Trùng mã",0) -> 0 | AC8: =ROUND(X8*AB8,0) -> 0 | AD8: =IF($M8="","",VLOOKUP($M8,vkhncc,2,0)) | AE8: =IF($M8="","",VLOOKUP($M8,vkhncc,4,0)) | AF8: =IF($AB8<>"",VLOOKUP($M8,vkhncc,7,0),"") | AG8: =IF($AB8<>"",VLOOKUP($M8,vkhncc,8,0),"") | AH8: =IF(OR($AB8<>"",C8="nvl",C8="nhh"),$F8,"") | AI8: =IF($AB8<>"",VLOOKUP($M8,DMKH!$B$6:$F$1822,3,0),"") | AJ8: =IF(AND(H8=H9,V8=V9),W9,IF(AND(H8=H9,W8=W9),V9,"")) | AK8: =IF(AND(H8=H9,V8=V9),X9,IF(AND(H8=H9,W8=W9),X9,"")) | AL8: =D8 -> 02/01/2015 | AM8: =IF(D8="","","Ngày "&LEFT(D8,2)&" tháng "&MID(D8,4,2)&" năm "&RIGHT(D8,4)) -> Ngày 02 tháng 01 năm 2015 | AN8: =V8&M8 -> 64228 | AO8: =W8&M8 -> 1111 | AP8: =IF($AB8="","",IF(OR(MID($D8,4,2)="01",MID($D8,4,2)="02",MID($D8,4,2)="03"),"1",IF(OR(MID($D8,4,2)="04",MID($D8,4,2)="05",MID($D8,4,2)="06"),"2",IF(OR(MID($D8,4,2)="07",MID($D8,4,2)="08",MID($D8,4,2)="09"),"3",IF(OR(MID($D8,4,2)="10",MID($D8,4,2)="11",MID($D8,4,2)="12"),"4"))))) | AQ8: =A8&"-"&V8 -> 1-64228 | AR8: =A8&"-"&W8 -> 1-1111 | AS8: =IF(LEFT($J8,1)="n",A8&P8,"") | AT8: =IF(LEFT($J8,1)="x",A8&P8,"") -> 1 | AU8: =$A8&$H8&$U8&$V8 -> 1BH00164228 | AV8: =$A8&$U8&$W8 -> 11111 | AW8: =$A8&"-"&V8&"-"&W8 -> 1-64228-1111
A9: =IF(D9>0,MONTH(D9),0) -> 1 | B9: PC | C9: GBN | D9: 02/01/2015 | E9: 02/01/2015 | F9: 2 | G9: {=IF(B9<>"",IF(AND(OR(V9=V8,W9=W8),F9=F8,K9=K8,N9=N8),G8,MAX(IF(B9=B$6:$B8,$G$6:G8))+1),"")} -> 2 | H9: =IF(B9<>"",B9&TEXT(G9,"000"),"") -> PC002 | I9: {=IF(C9<>"",IF(AND(OR(V9=V8,W9=W8),F9=F8,K9=K8,N9=N8),I8,MAX(IF(C9=C$6:$C8,$I$6:I8))+1),"")} -> 1 | J9: =IF(C9<>"",C9&TEXT(I9,"000"),"") -> GBN001 | K9: quan.nv | L9: =IF($K9>0,VLOOKUP($K9,NV!$B$4:$C$33,2,0),"") -> Nguyễn Văn Quân | N9: =IF($M9>0,VLOOKUP($M9,vkhncc,2,0),"") | O9: Chi phí thuế môn bài năm 2014 | Q9: =IF($P9>0,VLOOKUP($P9,vvt,2,0),"") | T9: =IFERROR(INDEX(NX!$L$9:$L$168,MATCH($A9&$P9,NX!$B$9:$B$169,0)),"") | V9: 64225 | W9: 33382 | X9: 750000 | Y9: =IF($V9="","",IF(ISNA(VLOOKUP($V9,mtk,1,0)),"Không có",VLOOKUP($V9,mtk,1,0))) -> 64225 | Z9: =IF($V9="","",IF(ISNA(VLOOKUP($W9,mtk,1,0)),"Không có",VLOOKUP($W9,mtk,1,0))) -> 33382 | AA9: =IF(COUNTIF($H$6:$H$526,$H9)>1,"Trùng mã",0) -> 0 | AC9: =ROUND(X9*AB9,0) -> 0 | AD9: =IF($M9="","",VLOOKUP($M9,vkhncc,2,0)) | AE9: =IF($M9="","",VLOOKUP($M9,vkhncc,4,0)) | AF9: =IF($AB9<>"",VLOOKUP($M9,vkhncc,7,0),"") | AG9: =IF($AB9<>"",VLOOKUP($M9,vkhncc,8,0),"") | AH9: =IF(OR($AB9<>"",C9="nvl",C9="nhh"),$F9,"") | AI9: =IF($AB9<>"",VLOOKUP($M9,DMKH!$B$6:$F$1822,3,0),"") | AJ9: =IF(AND(H9=H10,V9=V10),W10,IF(AND(H9=H10,W9=W10),V10,"")) | AK9: =IF(AND(H9=H10,V9=V10),X10,IF(AND(H9=H10,W9=W10),X10,"")) | AL9: =D9 -> 02/01/2015 | AM9: =IF(D9="","","Ngày "&LEFT(D9,2)&" tháng "&MID(D9,4,2)&" năm "&RIGHT(D9,4)) -> Ngày 02 tháng 01 năm 2015 | AN9: =V9&M9 -> 64225 | AO9: =W9&M9 -> 33382 | AP9: =IF($AB9="","",IF(OR(MID($D9,4,2)="01",MID($D9,4,2)="02",MID($D9,4,2)="03"),"1",IF(OR(MID($D9,4,2)="04",MID($D9,4,2)="05",MID($D9,4,2)="06"),"2",IF(OR(MID($D9,4,2)="07",MID($D9,4,2)="08",MID($D9,4,2)="09"),"3",IF(OR(MID($D9,4,2)="10",MID($D9,4,2)="11",MID($D9,4,2)="12"),"4"))))) | AQ9: =A9&"-"&V9 -> 1-64225 | AR9: =A9&"-"&W9 -> 1-33382 | AS9: =IF(LEFT($J9,1)="n",A9&P9,"") | AT9: =IF(LEFT($J9,1)="x",A9&P9,"") | AU9: =$A9&$H9&$U9&$V9 -> 1PC00264225 | AV9: =$A9&$U9&$W9 -> 133382 | AW9: =$A9&"-"&V9&"-"&W9 -> 1-64225-33382
A10: =IF(D10>0,MONTH(D10),0) -> 1 | B10: PT | C10: GBC | D10: 02/01/2015 | E10: 02/01/2015 | F10: 3 | G10: {=IF(B10<>"",IF(AND(OR(V10=V9,W10=W9),F10=F9,K10=K9,N10=N9),G9,MAX(IF(B10=B$6:$B9,$G$6:G9))+1),"")} -> 1 | H10: =IF(B10<>"",B10&TEXT(G10,"000"),"") -> PT001 | I10: {=IF(C10<>"",IF(AND(OR(V10=V9,W10=W9),F10=F9,K10=K9,N10=N9),I9,MAX(IF(C10=C$6:$C9,$I$6:I9))+1),"")} -> 1 | J10: =IF(C10<>"",C10&TEXT(I10,"000"),"") -> GBC001 | K10: quan.nv | L10: =IF($K10>0,VLOOKUP($K10,NV!$B$4:$C$33,2,0),"") -> Nguyễn Văn Quân | N10: =IF($M10>0,VLOOKUP($M10,vkhncc,2,0),"") | O10: Chi phí thuế môn bài năm 2015 | Q10: =IF($P10>0,VLOOKUP($P10,vvt,2,0),"") | T10: =IFERROR(INDEX(NX!$L$9:$L$168,MATCH($A10&$P10,NX!$B$9:$B$169,0)),"") | V10: 64225 | W10: 33382 | X10: 1500000 | Y10: =IF($V10="","",IF(ISNA(VLOOKUP($V10,mtk,1,0)),"Không có",VLOOKUP($V10,mtk,1,0))) -> 64225 | Z10: =IF($V10="","",IF(ISNA(VLOOKUP($W10,mtk,1,0)),"Không có",VLOOKUP($W10,mtk,1,0))) -> 33382 | AA10: =IF(COUNTIF($H$6:$H$526,$H10)>1,"Trùng mã",0) -> 0 | AC10: =ROUND(X10*AB10,0) -> 0 | AD10: =IF($M10="","",VLOOKUP($M10,vkhncc,2,0)) | AE10: =IF($M10="","",VLOOKUP($M10,vkhncc,4,0)) | AF10: =IF($AB10<>"",VLOOKUP($M10,vkhncc,7,0),"") | AG10: =IF($AB10<>"",VLOOKUP($M10,vkhncc,8,0),"") | AH10: =IF(OR($AB10<>"",C10="nvl",C10="nhh"),$F10,"") | AI10: =IF($AB10<>"",VLOOKUP($M10,DMKH!$B$6:$F$1822,3,0),"") | AJ10: =IF(AND(H10=H11,V10=V11),W11,IF(AND(H10=H11,W10=W11),V11,"")) | AK10: =IF(AND(H10=H11,V10=V11),X11,IF(AND(H10=H11,W10=W11),X11,"")) | AL10: =D10 -> 02/01/2015 | AM10: =IF(D10="","","Ngày "&LEFT(D10,2)&" tháng "&MID(D10,4,2)&" năm "&RIGHT(D10,4)) -> Ngày 02 tháng 01 năm 2015 | AN10: =V10&M10 -> 64225 | AO10: =W10&M10 -> 33382 | AP10: =IF($AB10="","",IF(OR(MID($D10,4,2)="01",MID($D10,4,2)="02",MID($D10,4,2)="03"),"1",IF(OR(MID($D10,4,2)="04",MID($D10,4,2)="05",MID($D10,4,2)="06"),"2",IF(OR(MID($D10,4,2)="07",MID($D10,4,2)="08",MID($D10,4,2)="09"),"3",IF(OR(MID($D10,4,2)="10",MID($D10,4,2)="11",MID($D10,4,2)="12"),"4"))))) | AQ10: =A10&"-"&V10 -> 1-64225 | AR10: =A10&"-"&W10 -> 1-33382 | AS10: =IF(LEFT($J10,1)="n",A10&P10,"") | AT10: =IF(LEFT($J10,1)="x",A10&P10,"") | AU10: =$A10&$H10&$U10&$V10 -> 1PT00164225 | AV10: =$A10&$U10&$W10 -> 133382 | AW10: =$A10&"-"&V10&"-"&W10 -> 1-64225-33382
A11: =IF(D11>0,MONTH(D11),0) -> 1 | B11: PC | C11: NVL | D11: 13/01/2015 | E11: 13/01/2015 | F11: 4 | G11: {=IF(B11<>"",IF(AND(OR(V11=V10,W11=W10),F11=F10,K11=K10,N11=N10),G10,MAX(IF(B11=B$6:$B10,$G$6:G10))+1),"")} -> 3 | H11: =IF(B11<>"",B11&TEXT(G11,"000"),"") -> PC003 | I11: {=IF(C11<>"",IF(AND(OR(V11=V10,W11=W10),F11=F10,K11=K10,N11=N10),I10,MAX(IF(C11=C$6:$C10,$I$6:I10))+1),"")} -> 2 | J11: =IF(C11<>"",C11&TEXT(I11,"000"),"") -> NVL002 | K11: quan.nv | L11: =IF($K11>0,VLOOKUP($K11,NV!$B$4:$C$33,2,0),"") -> Nguyễn Văn Quân | N11: =IF($M11>0,VLOOKUP($M11,vkhncc,2,0),"") | O11: Nộp thuế môn bài năm 2014 và năm 2015 | Q11: =IF($P11>0,VLOOKUP($P11,vvt,2,0),"") | T11: =IFERROR(INDEX(NX!$L$9:$L$168,MATCH($A11&$P11,NX!$B$9:$B$169,0)),"") | V11: 33382 | W11: 1111 | X11: 2250000 | Y11: =IF($V11="","",IF(ISNA(VLOOKUP($V11,mtk,1,0)),"Không có",VLOOKUP($V11,mtk,1,0))) -> 33382 | Z11: =IF($V11="","",IF(ISNA(VLOOKUP($W11,mtk,1,0)),"Không có",VLOOKUP($W11,mtk,1,0))) -> 1111 | AA11: =IF(COUNTIF($H$6:$H$526,$H11)>1,"Trùng mã",0) -> 0 | AC11: =ROUND(X11*AB11,0) -> 0 | AD11: =IF($M11="","",VLOOKUP($M11,vkhncc,2,0)) | AE11: =IF($M11="","",VLOOKUP($M11,vkhncc,4,0)) | AF11: =IF($AB11<>"",VLOOKUP($M11,vkhncc,7,0),"") | AG11: =IF($AB11<>"",VLOOKUP($M11,vkhncc,8,0),"") | AH11: =IF(OR($AB11<>"",C11="nvl",C11="nhh"),$F11,"") -> 4 | AI11: =IF($AB11<>"",VLOOKUP($M11,DMKH!$B$6:$F$1822,3,0),"") | AJ11: =IF(AND(H11=H12,V11=V12),W12,IF(AND(H11=H12,W11=W12),V12,"")) | AK11: =IF(AND(H11=H12,V11=V12),X12,IF(AND(H11=H12,W11=W12),X12,"")) | AL11: =D11 -> 13/01/2015 | AM11: =IF(D11="","","Ngày "&LEFT(D11,2)&" tháng "&MID(D11,4,2)&" năm "&RIGHT(D11,4)) -> Ngày 13 tháng 01 năm 2015 | AN11: =V11&M11 -> 33382 | AO11: =W11&M11 -> 1111 | AP11: =IF($AB11="","",IF(OR(MID($D11,4,2)="01",MID($D11,4,2)="02",MID($D11,4,2)="03"),"1",IF(OR(MID($D11,4,2)="04",MID($D11,4,2)="05",MID($D11,4,2)="06"),"2",IF(OR(MID($D11,4,2)="07",MID($D11,4,2)="08",MID($D11,4,2)="09"),"3",IF(OR(MID($D11,4,2)="10",MID($D11,4,2)="11",MID($D11,4,2)="12"),"4"))))) | AQ11: =A11&"-"&V11 -> 1-33382 | AR11: =A11&"-"&W11 -> 1-1111 | AS11: =IF(LEFT($J11,1)="n",A11&P11,"") -> 1 | AT11: =IF(LEFT($J11,1)="x",A11&P11,"") | AU11: =$A11&$H11&$U11&$V11 -> 1PC00333382 | AV11: =$A11&$U11&$W11 -> 11111 | AW11: =$A11&"-"&V11&"-"&W11 -> 1-33382-1111
A12: =IF(D12>0,MONTH(D12),0) -> 1 | B12: PKT | C12: NVL | D12: 31/01/2015 | E12: 13/01/2015 | F12: 4 | G12: {=IF(B12<>"",IF(AND(OR(V12=V11,W12=W11),F12=F11,K12=K11,N12=N11),G11,MAX(IF(B12=B$6:$B11,$G$6:G11))+1),"")} -> 1 | H12: =IF(B12<>"",B12&TEXT(G12,"000"),"") -> PKT001 | I12: {=IF(C12<>"",IF(AND(OR(V12=V11,W12=W11),F12=F11,K12=K11,N12=N11),I11,MAX(IF(C12=C$6:$C11,$I$6:I11))+1),"")} -> 3 | J12: =IF(C12<>"",C12&TEXT(I12,"000"),"") -> NVL003 | K12: quan.nv | L12: =IF($K12>0,VLOOKUP($K12,NV!$B$4:$C$33,2,0),"") -> Nguyễn Văn Quân | N12: =IF($M12>0,VLOOKUP($M12,vkhncc,2,0),"") | O12: Lương phải trả tháng 01/2015 | Q12: =IF($P12>0,VLOOKUP($P12,vvt,2,0),"") | T12: =IFERROR(INDEX(NX!$L$9:$L$168,MATCH($A12&$P12,NX!$B$9:$B$169,0)),"") | V12: 64221 | W12: 334 | X12: 8404000 | Y12: =IF($V12="","",IF(ISNA(VLOOKUP($V12,mtk,1,0)),"Không có",VLOOKUP($V12,mtk,1,0))) -> 64221 | Z12: =IF($V12="","",IF(ISNA(VLOOKUP($W12,mtk,1,0)),"Không có",VLOOKUP($W12,mtk,1,0))) -> 334 | AA12: =IF(COUNTIF($H$6:$H$526,$H12)>1,"Trùng mã",0) -> 0 | AC12: =ROUND(X12*AB12,0) -> 0 | AD12: =IF($M12="","",VLOOKUP($M12,vkhncc,2,0)) | AE12: =IF($M12="","",VLOOKUP($M12,vkhncc,4,0)) | AF12: =IF($AB12<>"",VLOOKUP($M12,vkhncc,7,0),"") | AG12: =IF($AB12<>"",VLOOKUP($M12,vkhncc,8,0),"") | AH12: =IF(OR($AB12<>"",C12="nvl",C12="nhh"),$F12,"") -> 4 | AI12: =IF($AB12<>"",VLOOKUP($M12,DMKH!$B$6:$F$1822,3,0),"") | AJ12: =IF(AND(H12=H13,V12=V13),W13,IF(AND(H12=H13,W12=W13),V13,"")) | AK12: =IF(AND(H12=H13,V12=V13),X13,IF(AND(H12=H13,W12=W13),X13,"")) | AL12: =D12 -> 31/01/2015 | AM12: =IF(D12="","","Ngày "&LEFT(D12,2)&" tháng "&MID(D12,4,2)&" năm "&RIGHT(D12,4)) -> Ngày 31 tháng 01 năm 2015 | AN12: =V12&M12 -> 64221 | AO12: =W12&M12 -> 334 | AP12: =IF($AB12="","",IF(OR(MID($D12,4,2)="01",MID($D12,4,2)="02",MID($D12,4,2)="03"),"1",IF(OR(MID($D12,4,2)="04",MID($D12,4,2)="05",MID($D12,4,2)="06"),"2",IF(OR(MID($D12,4,2)="07",MID($D12,4,2)="08",MID($D12,4,2)="09"),"3",IF(OR(MID($D12,4,2)="10",MID($D12,4,2)="11",MID($D12,4,2)="12"),"4"))))) | AQ12: =A12&"-"&V12 -> 1-64221 | AR12: =A12&"-"&W12 -> 1-334 | AS12: =IF(LEFT($J12,1)="n",A12&P12,"") -> 1 | AT12: =IF(LEFT($J12,1)="x",A12&P12,"") | AU12: =$A12&$H12&$U12&$V12 -> 1PKT00164221 | AV12: =$A12&$U12&$W12 -> 1334 | AW12: =$A12&"-"&V12&"-"&W12 -> 1-64221-334
A13: =IF(D13>0,MONTH(D13),0) -> 1 | B13: PC | C13: GBN | D13: 31/01/2015 | E13: 31/01/2015 | F13: 6 | G13: {=IF(B13<>"",IF(AND(OR(V13=V12,W13=W12),F13=F12,K13=K12,N13=N12),G12,MAX(IF(B13=B$6:$B12,$G$6:G12))+1),"")} -> 4 | H13: =IF(B13<>"",B13&TEXT(G13,"000"),"") -> PC004 | I13: {=IF(C13<>"",IF(AND(OR(V13=V12,W13=W12),F13=F12,K13=K12,N13=N12),I12,MAX(IF(C13=C$6:$C12,$I$6:I12))+1),"")} -> 2 | J13: =IF(C13<>"",C13&TEXT(I13,"000"),"") -> GBN002 | K13: quan.nv | L13: =IF($K13>0,VLOOKUP($K13,NV!$B$4:$C$33,2,0),"") -> Nguyễn Văn Quân | N13: =IF($M13>0,VLOOKUP($M13,vkhncc,2,0),"") | O13: Thanh toán lương tháng 01/2015 | Q13: =IF($P13>0,VLOOKUP($P13,vvt,2,0),"") | T13: =IFERROR(INDEX(NX!$L$9:$L$168,MATCH($A13&$P13,NX!$B$9:$B$169,0)),"") | V13: 334 | W13: 1111 | X13: 8404000 | Y13: =IF($V13="","",IF(ISNA(VLOOKUP($V13,mtk,1,0)),"Không có",VLOOKUP($V13,mtk,1,0))) -> 334 | Z13: =IF($V13="","",IF(ISNA(VLOOKUP($W13,mtk,1,0)),"Không có",VLOOKUP($W13,mtk,1,0))) -> 1111 | AA13: =IF(COUNTIF($H$6:$H$526,$H13)>1,"Trùng mã",0) -> 0 | AC13: =ROUND(X13*AB13,0) -> 0 | AD13: =IF($M13="","",VLOOKUP($M13,vkhncc,2,0)) | AE13: =IF($M13="","",VLOOKUP($M13,vkhncc,4,0)) | AF13: =IF($AB13<>"",VLOOKUP($M13,vkhncc,7,0),"") | AG13: =IF($AB13<>"",VLOOKUP($M13,vkhncc,8,0),"") | AH13: =IF(OR($AB13<>"",C13="nvl",C13="nhh"),$F13,"") | AI13: =IF($AB13<>"",VLOOKUP($M13,DMKH!$B$6:$F$1822,3,0),"") | AJ13: =IF(AND(H13=H14,V13=V14),W14,IF(AND(H13=H14,W13=W14),V14,"")) | AK13: =IF(AND(H13=H14,V13=V14),X14,IF(AND(H13=H14,W13=W14),X14,"")) | AL13: =D13 -> 31/01/2015 | AM13: =IF(D13="","","Ngày "&LEFT(D13,2)&" tháng "&MID(D13,4,2)&" năm "&RIGHT(D13,4)) -> Ngày 31 tháng 01 năm 2015 | AN13: =V13&M13 -> 334 | AO13: =W13&M13 -> 1111 | AP13: =IF($AB13="","",IF(OR(MID($D13,4,2)="01",MID($D13,4,2)="02",MID($D13,4,2)="03"),"1",IF(OR(MID($D13,4,2)="04",MID($D13,4,2)="05",MID($D13,4,2)="06"),"2",IF(OR(MID($D13,4,2)="07",MID($D13,4,2)="08",MID($D13,4,2)="09"),"3",IF(OR(MID($D13,4,2)="10",MID($D13,4,2)="11",MID($D13,4,2)="12"),"4"))))) | AQ13: =A13&"-"&V13 -> 1-334 | AR13: =A13&"-"&W13 -> 1-1111 | AS13: =IF(LEFT($J13,1)="n",A13&P13,"") | AT13: =IF(LEFT($J13,1)="x",A13&P13,"") | AU13: =$A13&$H13&$U13&$V13 -> 1PC004334 | AV13: =$A13&$U13&$W13 -> 11111 | AW13: =$A13&"-"&V13&"-"&W13 -> 1-334-1111
A14: =IF(D14>0,MONTH(D14),0) -> 2 | B14: PC | C14: GBN | D14: 25/02/2015 | E14: 25/02/2015 | F14: v | G14: {=IF(B14<>"",IF(AND(OR(V14=V13,W14=W13),F14=F13,K14=K13,N14=N13),G13,MAX(IF(B14=B$6:$B13,$G$6:G13))+1),"")} -> 5 | H14: =IF(B14<>"",B14&TEXT(G14,"000"),"") -> PC005 | I14: {=IF(C14<>"",IF(AND(OR(V14=V13,W14=W13),F14=F13,K14=K13,N14=N13),I13,MAX(IF(C14=C$6:$C13,$I$6:I13))+1),"")} -> 3 | J14: =IF(C14<>"",C14&TEXT(I14,"000"),"") -> GBN003 | K14: quan.nv | L14: =IF($K14>0,VLOOKUP($K14,NV!$B$4:$C$33,2,0),"") -> Nguyễn Văn Quân | N14: =IF($M14>0,VLOOKUP($M14,vkhncc,2,0),"") | O14: Thưởng tết âm lịch | Q14: =IF($P14>0,VLOOKUP($P14,vvt,2,0),"") | T14: =IFERROR(INDEX(NX!$L$9:$L$168,MATCH($A14&$P14,NX!$B$9:$B$169,0)),"") | V14: 64228 | W14: 1111 | X14: 4000000 | Y14: =IF($V14="","",IF(ISNA(VLOOKUP($V14,mtk,1,0)),"Không có",VLOOKUP($V14,mtk,1,0))) -> 64228 | Z14: =IF($V14="","",IF(ISNA(VLOOKUP($W14,mtk,1,0)),"Không có",VLOOKUP($W14,mtk,1,0))) -> 1111 | AA14: =IF(COUNTIF($H$6:$H$526,$H14)>1,"Trùng mã",0) -> 0 | AC14: =ROUND(X14*AB14,0) -> 0 | AD14: =IF($M14="","",VLOOKUP($M14,vkhncc,2,0)) | AE14: =IF($M14="","",VLOOKUP($M14,vkhncc,4,0)) | AF14: =IF($AB14<>"",VLOOKUP($M14,vkhncc,7,0),"") | AG14: =IF($AB14<>"",VLOOKUP($M14,vkhncc,8,0),"") | AH14: =IF(OR($AB14<>"",C14="nvl",C14="nhh"),$F14,"") | AI14: =IF($AB14<>"",VLOOKUP($M14,DMKH!$B$6:$F$1822,3,0),"") | AJ14: =IF(AND(H14=H15,V14=V15),W15,IF(AND(H14=H15,W14=W15),V15,"")) | AK14: =IF(AND(H14=H15,V14=V15),X15,IF(AND(H14=H15,W14=W15),X15,"")) | AL14: =D14 -> 25/02/2015 | AM14: =IF(D14="","","Ngày "&LEFT(D14,2)&" tháng "&MID(D14,4,2)&" năm "&RIGHT(D14,4)) -> Ngày 25 tháng 02 năm 2015 | AN14: =V14&M14 -> 64228 | AO14: =W14&M14 -> 1111 | AP14: =IF($AB14="","",IF(OR(MID($D14,4,2)="01",MID($D14,4,2)="02",MID($D14,4,2)="03"),"1",IF(OR(MID($D14,4,2)="04",MID($D14,4,2)="05",MID($D14,4,2)="06"),"2",IF(OR(MID($D14,4,2)="07",MID($D14,4,2)="08",MID($D14,4,2)="09"),"3",IF(OR(MID($D14,4,2)="10",MID($D14,4,2)="11",MID($D14,4,2)="12"),"4"))))) | AQ14: =A14&"-"&V14 -> 2-64228 | AR14: =A14&"-"&W14 -> 2-1111 | AS14: =IF(LEFT($J14,1)="n",A14&P14,"") | AT14: =IF(LEFT($J14,1)="x",A14&P14,"") | AU14: =$A14&$H14&$U14&$V14 -> 2PC00564228 | AV14: =$A14&$U14&$W14 -> 21111 | AW14: =$A14&"-"&V14&"-"&W14 -> 2-64228-1111
A15: =IF(D15>0,MONTH(D15),0) -> 2 | B15: PKT | D15: 28/02/2015 | E15: 28/02/2015 | F15: 7 | G15: {=IF(B15<>"",IF(AND(OR(V15=V14,W15=W14),F15=F14,K15=K14,N15=N14),G14,MAX(IF(B15=B$6:$B14,$G$6:G14))+1),"")} -> 2 | H15: =IF(B15<>"",B15&TEXT(G15,"000"),"") -> PKT002 | I15: {=IF(C15<>"",IF(AND(OR(V15=V14,W15=W14),F15=F14,K15=K14,N15=N14),I14,MAX(IF(C15=C$6:$C14,$I$6:I14))+1),"")} | J15: =IF(C15<>"",C15&TEXT(I15,"000"),"") | K15: quan.nv | L15: =IF($K15>0,VLOOKUP($K15,NV!$B$4:$C$33,2,0),"") -> Nguyễn Văn Quân | N15: =IF($M15>0,VLOOKUP($M15,vkhncc,2,0),"") | O15: Lương phải trả tháng 02/2015 | Q15: =IF($P15>0,VLOOKUP($P15,vvt,2,0),"") | T15: =IFERROR(INDEX(NX!$L$9:$L$168,MATCH($A15&$P15,NX!$B$9:$B$169,0)),"") | V15: 64221 | W15: 334 | X15: 7677000 | Y15: =IF($V15="","",IF(ISNA(VLOOKUP($V15,mtk,1,0)),"Không có",VLOOKUP($V15,mtk,1,0))) -> 64221 | Z15: =IF($V15="","",IF(ISNA(VLOOKUP($W15,mtk,1,0)),"Không có",VLOOKUP($W15,mtk,1,0))) -> 334 | AA15: =IF(COUNTIF($H$6:$H$526,$H15)>1,"Trùng mã",0) -> 0 | AC15: =ROUND(X15*AB15,0) -> 0 | AD15: =IF($M15="","",VLOOKUP($M15,vkhncc,2,0)) | AE15: =IF($M15="","",VLOOKUP($M15,vkhncc,4,0)) | AF15: =IF($AB15<>"",VLOOKUP($M15,vkhncc,7,0),"") | AG15: =IF($AB15<>"",VLOOKUP($M15,vkhncc,8,0),"") | AH15: =IF(OR($AB15<>"",C15="nvl",C15="nhh"),$F15,"") | AI15: =IF($AB15<>"",VLOOKUP($M15,DMKH!$B$6:$F$1822,3,0),"") | AJ15: =IF(AND(H15=H16,V15=V16),W16,IF(AND(H15=H16,W15=W16),V16,"")) | AK15: =IF(AND(H15=H16,V15=V16),X16,IF(AND(H15=H16,W15=W16),X16,"")) | AL15: =D15 -> 28/02/2015 | AM15: =IF(D15="","","Ngày "&LEFT(D15,2)&" tháng "&MID(D15,4,2)&" năm "&RIGHT(D15,4)) -> Ngày 28 tháng 02 năm 2015 | AN15: =V15&M15 -> 64221 | AO15: =W15&M15 -> 334 | AP15: =IF($AB15="","",IF(OR(MID($D15,4,2)="01",MID($D15,4,2)="02",MID($D15,4,2)="03"),"1",IF(OR(MID($D15,4,2)="04",MID($D15,4,2)="05",MID($D15,4,2)="06"),"2",IF(OR(MID($D15,4,2)="07",MID($D15,4,2)="08",MID($D15,4,2)="09"),"3",IF(OR(MID($D15,4,2)="10",MID($D15,4,2)="11",MID($D15,4,2)="12"),"4"))))) | AQ15: =A15&"-"&V15 -> 2-64221 | AR15: =A15&"-"&W15 -> 2-334 | AS15: =IF(LEFT($J15,1)="n",A15&P15,"") | AT15: =IF(LEFT($J15,1)="x",A15&P15,"") | AU15: =$A15&$H15&$U15&$V15 -> 2PKT00264221 | AV15: =$A15&$U15&$W15 -> 2334 | AW15: =$A15&"-"&V15&"-"&W15 -> 2-64221-334
A16: =IF(D16>0,MONTH(D16),0) -> 2 | B16: PC | D16: 28/02/2015 | E16: 28/02/2015 | F16: 8 | G16: {=IF(B16<>"",IF(AND(OR(V16=V15,W16=W15),F16=F15,K16=K15,N16=N15),G15,MAX(IF(B16=B$6:$B15,$G$6:G15))+1),"")} -> 6 | H16: =IF(B16<>"",B16&TEXT(G16,"000"),"") -> PC006 | I16: {=IF(C16<>"",IF(AND(OR(V16=V15,W16=W15),F16=F15,K16=K15,N16=N15),I15,MAX(IF(C16=C$6:$C15,$I$6:I15))+1),"")} | J16: =IF(C16<>"",C16&TEXT(I16,"000"),"") | K16: quan.nv | L16: =IF($K16>0,VLOOKUP($K16,NV!$B$4:$C$33,2,0),"") -> Nguyễn Văn Quân | N16: =IF($M16>0,VLOOKUP($M16,vkhncc,2,0),"") | O16: Thanh toán lương tháng 02/2015 | Q16: =IF($P16>0,VLOOKUP($P16,vvt,2,0),"") | T16: =IFERROR(INDEX(NX!$L$9:$L$168,MATCH($A16&$P16,NX!$B$9:$B$169,0)),"") | V16: 334 | W16: 1111 | X16: 7677000 | Y16: =IF($V16="","",IF(ISNA(VLOOKUP($V16,mtk,1,0)),"Không có",VLOOKUP($V16,mtk,1,0))) -> 334 | Z16: =IF($V16="","",IF(ISNA(VLOOKUP($W16,mtk,1,0)),"Không có",VLOOKUP($W16,mtk,1,0))) -> 1111 | AA16: =IF(COUNTIF($H$6:$H$526,$H16)>1,"Trùng mã",0) -> 0 | AC16: =ROUND(X16*AB16,0) -> 0 | AD16: =IF($M16="","",VLOOKUP($M16,vkhncc,2,0)) | AE16: =IF($M16="","",VLOOKUP($M16,vkhncc,4,0)) | AF16: =IF($AB16<>"",VLOOKUP($M16,vkhncc,7,0),"") | AG16: =IF($AB16<>"",VLOOKUP($M16,vkhncc,8,0),"") | AH16: =IF(OR($AB16<>"",C16="nvl",C16="nhh"),$F16,"") | AI16: =IF($AB16<>"",VLOOKUP($M16,DMKH!$B$6:$F$1822,3,0),"") | AJ16: =IF(AND(H16=H17,V16=V17),W17,IF(AND(H16=H17,W16=W17),V17,"")) | AK16: =IF(AND(H16=H17,V16=V17),X17,IF(AND(H16=H17,W16=W17),X17,"")) | AL16: =D16 -> 28/02/2015 | AM16: =IF(D16="","","Ngày "&LEFT(D16,2)&" tháng "&MID(D16,4,2)&" năm "&RIGHT(D16,4)) -> Ngày 28 tháng 02 năm 2015 | AN16: =V16&M16 -> 334 | AO16: =W16&M16 -> 1111 | AP16: =IF($AB16="","",IF(OR(MID($D16,4,2)="01",MID($D16,4,2)="02",MID($D16,4,2)="03"),"1",IF(OR(MID($D16,4,2)="04",MID($D16,4,2)="05",MID($D16,4,2)="06"),"2",IF(OR(MID($D16,4,2)="07",MID($D16,4,2)="08",MID($D16,4,2)="09"),"3",IF(OR(MID($D16,4,2)="10",MID($D16,4,2)="11",MID($D16,4,2)="12"),"4"))))) | AQ16: =A16&"-"&V16 -> 2-334 | AR16: =A16&"-"&W16 -> 2-1111 | AS16: =IF(LEFT($J16,1)="n",A16&P16,"") | AT16: =IF(LEFT($J16,1)="x",A16&P16,"") | AU16: =$A16&$H16&$U16&$V16 -> 2PC006334 | AV16: =$A16&$U16&$W16 -> 21111 | AW16: =$A16&"-"&V16&"-"&W16 -> 2-334-1111
A17: =IF(D17>0,MONTH(D17),0) -> 3 | B17: PKT | D17: 31/03/2015 | E17: 31/03/2015 | F17: 9 | G17: {=IF(B17<>"",IF(AND(OR(V17=V16,W17=W16),F17=F16,K17=K16,N17=N16),G16,MAX(IF(B17=B$6:$B16,$G$6:G16))+1),"")} -> 3 | H17: =IF(B17<>"",B17&TEXT(G17,"000"),"") -> PKT003 | I17: {=IF(C17<>"",IF(AND(OR(V17=V16,W17=W16),F17=F16,K17=K16,N17=N16),I16,MAX(IF(C17=C$6:$C16,$I$6:I16))+1),"")} | J17: =IF(C17<>"",C17&TEXT(I17,"000"),"") | K17: quan.nv | L17: =IF($K17>0,VLOOKUP($K17,NV!$B$4:$C$33,2,0),"") -> Nguyễn Văn Quân | N17: =IF($M17>0,VLOOKUP($M17,vkhncc,2,0),"") | O17: Lương phải trả tháng 03/2015 | Q17: =IF($P17>0,VLOOKUP($P17,vvt,2,0),"") | T17: =IFERROR(INDEX(NX!$L$9:$L$168,MATCH($A17&$P17,NX!$B$9:$B$169,0)),"") | V17: 64221 | W17: 334 | X17: 8172000 | Y17: =IF($V17="","",IF(ISNA(VLOOKUP($V17,mtk,1,0)),"Không có",VLOOKUP($V17,mtk,1,0))) -> 64221 | Z17: =IF($V17="","",IF(ISNA(VLOOKUP($W17,mtk,1,0)),"Không có",VLOOKUP($W17,mtk,1,0))) -> 334 | AA17: =IF(COUNTIF($H$6:$H$526,$H17)>1,"Trùng mã",0) -> 0 | AC17: =ROUND(X17*AB17,0) -> 0 | AD17: =IF($M17="","",VLOOKUP($M17,vkhncc,2,0)) | AE17: =IF($M17="","",VLOOKUP($M17,vkhncc,4,0)) | AF17: =IF($AB17<>"",VLOOKUP($M17,vkhncc,7,0),"") | AG17: =IF($AB17<>"",VLOOKUP($M17,vkhncc,8,0),"") | AH17: =IF(OR($AB17<>"",C17="nvl",C17="nhh"),$F17,"") | AI17: =IF($AB17<>"",VLOOKUP($M17,DMKH!$B$6:$F$1822,3,0),"") | AJ17: =IF(AND(H17=H18,V17=V18),W18,IF(AND(H17=H18,W17=W18),V18,"")) | AK17: =IF(AND(H17=H18,V17=V18),X18,IF(AND(H17=H18,W17=W18),X18,"")) | AL17: =D17 -> 31/03/2015 | AM17: =IF(D17="","","Ngày "&LEFT(D17,2)&" tháng "&MID(D17,4,2)&" năm "&RIGHT(D17,4)) -> Ngày 31 tháng 03 năm 2015 | AN17: =V17&M17 -> 64221 | AO17: =W17&M17 -> 334 | AP17: =IF($AB17="","",IF(OR(MID($D17,4,2)="01",MID($D17,4,2)="02",MID($D17,4,2)="03"),"1",IF(OR(MID($D17,4,2)="04",MID($D17,4,2)="05",MID($D17,4,2)="06"),"2",IF(OR(MID($D17,4,2)="07",MID($D17,4,2)="08",MID($D17,4,2)="09"),"3",IF(OR(MID($D17,4,2)="10",MID($D17,4,2)="11",MID($D17,4,2)="12"),"4"))))) | AQ17: =A17&"-"&V17 -> 3-64221 | AR17: =A17&"-"&W17 -> 3-334 | AS17: =IF(LEFT($J17,1)="n",A17&P17,"") | AT17: =IF(LEFT($J17,1)="x",A17&P17,"") | AU17: =$A17&$H17&$U17&$V17 -> 3PKT00364221 | AV17: =$A17&$U17&$W17 -> 3334 | AW17: =$A17&"-"&V17&"-"&W17 -> 3-64221-334
A18: =IF(D18>0,MONTH(D18),0) -> 3 | B18: PC | D18: 31/03/2015 | E18: 31/03/2015 | F18: 10 | G18: {=IF(B18<>"",IF(AND(OR(V18=V17,W18=W17),F18=F17,K18=K17,N18=N17),G17,MAX(IF(B18=B$6:$B17,$G$6:G17))+1),"")} -> 7 | H18: =IF(B18<>"",B18&TEXT(G18,"000"),"") -> PC007 | I18: {=IF(C18<>"",IF(AND(OR(V18=V17,W18=W17),F18=F17,K18=K17,N18=N17),I17,MAX(IF(C18=C$6:$C17,$I$6:I17))+1),"")} | J18: =IF(C18<>"",C18&TEXT(I18,"000"),"") | K18: quan.nv | L18: =IF($K18>0,VLOOKUP($K18,NV!$B$4:$C$33,2,0),"") -> Nguyễn Văn Quân | N18: =IF($M18>0,VLOOKUP($M18,vkhncc,2,0),"") | O18: Thanh toán lương tháng 03/2015 | Q18: =IF($P18>0,VLOOKUP($P18,vvt,2,0),"") | T18: =IFERROR(INDEX(NX!$L$9:$L$168,MATCH($A18&$P18,NX!$B$9:$B$169,0)),"") | V18: 334 | W18: 1111 | X18: 8172000 | Y18: =IF($V18="","",IF(ISNA(VLOOKUP($V18,mtk,1,0)),"Không có",VLOOKUP($V18,mtk,1,0))) -> 334 | Z18: =IF($V18="","",IF(ISNA(VLOOKUP($W18,mtk,1,0)),"Không có",VLOOKUP($W18,mtk,1,0))) -> 1111 | AA18: =IF(COUNTIF($H$6:$H$526,$H18)>1,"Trùng mã",0) -> 0 | AC18: =ROUND(X18*AB18,0) -> 0 | AD18: =IF($M18="","",VLOOKUP($M18,vkhncc,2,0)) | AE18: =IF($M18="","",VLOOKUP($M18,vkhncc,4,0)) | AF18: =IF($AB18<>"",VLOOKUP($M18,vkhncc,7,0),"") | AG18: =IF($AB18<>"",VLOOKUP($M18,vkhncc,8,0),"") | AH18: =IF(OR($AB18<>"",C18="nvl",C18="nhh"),$F18,"") | AI18: =IF($AB18<>"",VLOOKUP($M18,DMKH!$B$6:$F$1822,3,0),"") | AJ18: =IF(AND(H18=H19,V18=V19),W19,IF(AND(H18=H19,W18=W19),V19,"")) | AK18: =IF(AND(H18=H19,V18=V19),X19,IF(AND(H18=H19,W18=W19),X19,"")) | AL18: =D18 -> 31/03/2015 | AM18: =IF(D18="","","Ngày "&LEFT(D18,2)&" tháng "&MID(D18,4,2)&" năm "&RIGHT(D18,4)) -> Ngày 31 tháng 03 năm 2015 | AN18: =V18&M18 -> 334 | AO18: =W18&M18 -> 1111 | AP18: =IF($AB18="","",IF(OR(MID($D18,4,2)="01",MID($D18,4,2)="02",MID($D18,4,2)="03"),"1",IF(OR(MID($D18,4,2)="04",MID($D18,4,2)="05",MID($D18,4,2)="06"),"2",IF(OR(MID($D18,4,2)="07",MID($D18,4,2)="08",MID($D18,4,2)="09"),"3",IF(OR(MID($D18,4,2)="10",MID($D18,4,2)="11",MID($D18,4,2)="12"),"4"))))) | AQ18: =A18&"-"&V18 -> 3-334 | AR18: =A18&"-"&W18 -> 3-1111 | AS18: =IF(LEFT($J18,1)="n",A18&P18,"") | AT18: =IF(LEFT($J18,1)="x",A18&P18,"") | AU18: =$A18&$H18&$U18&$V18 -> 3PC007334 | AV18: =$A18&$U18&$W18 -> 31111 | AW18: =$A18&"-"&V18&"-"&W18 -> 3-334-1111
A19: =IF(D19>0,MONTH(D19),0) -> 3 | B19: PKT | D19: 31/03/2015 | E19: 31/03/2015 | F19: 11 | G19: {=IF(B19<>"",IF(AND(OR(V19=V18,W19=W18),F19=F18,K19=K18,N19=N18),G18,MAX(IF(B19=B$6:$B18,$G$6:G18))+1),"")} -> 4 | H19: =IF(B19<>"",B19&TEXT(G19,"000"),"") -> PKT004 | I19: {=IF(C19<>"",IF(AND(OR(V19=V18,W19=W18),F19=F18,K19=K18,N19=N18),I18,MAX(IF(C19=C$6:$C18,$I$6:I18))+1),"")} | J19: =IF(C19<>"",C19&TEXT(I19,"000"),"") | K19: quan.nv | L19: =IF($K19>0,VLOOKUP($K19,NV!$B$4:$C$33,2,0),"") -> Nguyễn Văn Quân | N19: =IF($M19>0,VLOOKUP($M19,vkhncc,2,0),"") | O19: Kết chuyển chi phí lương nhân viên quản lý | Q19: =IF($P19>0,VLOOKUP($P19,vvt,2,0),"") | T19: =IFERROR(INDEX(NX!$L$9:$L$168,MATCH($A19&$P19,NX!$B$9:$B$169,0)),"") | V19: 911 | W19: 64221 | X19: 24253000 | Y19: =IF($V19="","",IF(ISNA(VLOOKUP($V19,mtk,1,0)),"Không có",VLOOKUP($V19,mtk,1,0))) -> 911 | Z19: =IF($V19="","",IF(ISNA(VLOOKUP($W19,mtk,1,0)),"Không có",VLOOKUP($W19,mtk,1,0))) -> 64221 | AA19: =IF(COUNTIF($H$6:$H$526,$H19)>1,"Trùng mã",0) -> 0 | AC19: =ROUND(X19*AB19,0) -> 0 | AD19: =IF($M19="","",VLOOKUP($M19,vkhncc,2,0)) | AE19: =IF($M19="","",VLOOKUP($M19,vkhncc,4,0)) | AF19: =IF($AB19<>"",VLOOKUP($M19,vkhncc,7,0),"") | AG19: =IF($AB19<>"",VLOOKUP($M19,vkhncc,8,0),"") | AH19: =IF(OR($AB19<>"",C19="nvl",C19="nhh"),$F19,"") | AI19: =IF($AB19<>"",VLOOKUP($M19,DMKH!$B$6:$F$1822,3,0),"") | AJ19: =IF(AND(H19=H20,V19=V20),W20,IF(AND(H19=H20,W19=W20),V20,"")) | AK19: =IF(AND(H19=H20,V19=V20),X20,IF(AND(H19=H20,W19=W20),X20,"")) | AL19: =D19 -> 31/03/2015 | AM19: =IF(D19="","","Ngày "&LEFT(D19,2)&" tháng "&MID(D19,4,2)&" năm "&RIGHT(D19,4)) -> Ngày 31 tháng 03 năm 2015 | AN19: =V19&M19 -> 911 | AO19: =W19&M19 -> 64221 | AP19: =IF($AB19="","",IF(OR(MID($D19,4,2)="01",MID($D19,4,2)="02",MID($D19,4,2)="03"),"1",IF(OR(MID($D19,4,2)="04",MID($D19,4,2)="05",MID($D19,4,2)="06"),"2",IF(OR(MID($D19,4,2)="07",MID($D19,4,2)="08",MID($D19,4,2)="09"),"3",IF(OR(MID($D19,4,2)="10",MID($D19,4,2)="11",MID($D19,4,2)="12"),"4"))))) | AQ19: =A19&"-"&V19 -> 3-911 | AR19: =A19&"-"&W19 -> 3-64221 | AS19: =IF(LEFT($J19,1)="n",A19&P19,"") | AT19: =IF(LEFT($J19,1)="x",A19&P19,"") | AU19: =$A19&$H19&$U19&$V19 -> 3PKT004911 | AV19: =$A19&$U19&$W19 -> 364221 | AW19: =$A19&"-"&V19&"-"&W19 -> 3-911-64221
A20: =IF(D20>0,MONTH(D20),0) -> 3 | B20: PKT | D20: 31/03/2015 | E20: 31/03/2015 | F20: 12 | G20: {=IF(B20<>"",IF(AND(OR(V20=V19,W20=W19),F20=F19,K20=K19,N20=N19),G19,MAX(IF(B20=B$6:$B19,$G$6:G19))+1),"")} -> 5 | H20: =IF(B20<>"",B20&TEXT(G20,"000"),"") -> PKT005 | I20: {=IF(C20<>"",IF(AND(OR(V20=V19,W20=W19),F20=F19,K20=K19,N20=N19),I19,MAX(IF(C20=C$6:$C19,$I$6:I19))+1),"")} | J20: =IF(C20<>"",C20&TEXT(I20,"000"),"") | K20: quan.nv | L20: =IF($K20>0,VLOOKUP($K20,NV!$B$4:$C$33,2,0),"") -> Nguyễn Văn Quân | N20: =IF($M20>0,VLOOKUP($M20,vkhncc,2,0),"") | O20: Kết chuyển chi phí thuế, lệ phí khác | Q20: =IF($P20>0,VLOOKUP($P20,vvt,2,0),"") | T20: =IFERROR(INDEX(NX!$L$9:$L$168,MATCH($A20&$P20,NX!$B$9:$B$169,0)),"") | V20: 911 | W20: 64225 | X20: 2250000 | Y20: =IF($V20="","",IF(ISNA(VLOOKUP($V20,mtk,1,0)),"Không có",VLOOKUP($V20,mtk,1,0))) -> 911 | Z20: =IF($V20="","",IF(ISNA(VLOOKUP($W20,mtk,1,0)),"Không có",VLOOKUP($W20,mtk,1,0))) -> 64225 | AA20: =IF(COUNTIF($H$6:$H$526,$H20)>1,"Trùng mã",0) -> 0 | AC20: =ROUND(X20*AB20,0) -> 0 | AD20: =IF($M20="","",VLOOKUP($M20,vkhncc,2,0)) | AE20: =IF($M20="","",VLOOKUP($M20,vkhncc,4,0)) | AF20: =IF($AB20<>"",VLOOKUP($M20,vkhncc,7,0),"") | AG20: =IF($AB20<>"",VLOOKUP($M20,vkhncc,8,0),"") | AH20: =IF(OR($AB20<>"",C20="nvl",C20="nhh"),$F20,"") | AI20: =IF($AB20<>"",VLOOKUP($M20,DMKH!$B$6:$F$1822,3,0),"") | AJ20: =IF(AND(H20=H21,V20=V21),W21,IF(AND(H20=H21,W20=W21),V21,"")) | AK20: =IF(AND(H20=H21,V20=V21),X21,IF(AND(H20=H21,W20=W21),X21,"")) | AL20: =D20 -> 31/03/2015 | AM20: =IF(D20="","","Ngày "&LEFT(D20,2)&" tháng "&MID(D20,4,2)&" năm "&RIGHT(D20,4)) -> Ngày 31 tháng 03 năm 2015 | AN20: =V20&M20 -> 911 | AO20: =W20&M20 -> 64225 | AP20: =IF($AB20="","",IF(OR(MID($D20,4,2)="01",MID($D20,4,2)="02",MID($D20,4,2)="03"),"1",IF(OR(MID($D20,4,2)="04",MID($D20,4,2)="05",MID($D20,4,2)="06"),"2",IF(OR(MID($D20,4,2)="07",MID($D20,4,2)="08",MID($D20,4,2)="09"),"3",IF(OR(MID($D20,4,2)="10",MID($D20,4,2)="11",MID($D20,4,2)="12"),"4"))))) | AQ20: =A20&"-"&V20 -> 3-911 | AR20: =A20&"-"&W20 -> 3-64225 | AS20: =IF(LEFT($J20,1)="n",A20&P20,"") | AT20: =IF(LEFT($J20,1)="x",A20&P20,"") | AU20: =$A20&$H20&$U20&$V20 -> 3PKT005911 | AV20: =$A20&$U20&$W20 -> 364225 | AW20: =$A20&"-"&V20&"-"&W20 -> 3-911-64225
